BEGIN:VCALENDAR
VERSION:2.0
PRODID:-//SE INFINITY - ECPv6.15.20//NONSGML v1.0//EN
CALSCALE:GREGORIAN
METHOD:PUBLISH
X-WR-CALNAME:SE INFINITY
X-ORIGINAL-URL:https://seinfinity.pro
X-WR-CALDESC:Events for SE INFINITY
REFRESH-INTERVAL;VALUE=DURATION:PT1H
X-Robots-Tag:noindex
X-PUBLISHED-TTL:PT1H
BEGIN:VTIMEZONE
TZID:America/Lima
BEGIN:STANDARD
TZOFFSETFROM:-0500
TZOFFSETTO:-0500
TZNAME:-05
DTSTART:20240101T000000
END:STANDARD
END:VTIMEZONE
BEGIN:VEVENT
DTSTART;TZID=America/Lima:20251229T200000
DTEND;TZID=America/Lima:20251229T210000
DTSTAMP:20260422T135108
CREATED:20251229T200100Z
LAST-MODIFIED:20251229T200100Z
UID:4672-1767038400-1767042000@seinfinity.pro
SUMMARY:PRESENTACIÓN DE NEGOCIOS
DESCRIPTION: INICIO: 08:00 P.M. (hora Perú) \n APERTURA: 07:50 P.M. \n Expositores: YADIRA MARTIARENA – EMBAJADOR 250K \nMOISES ROLDAN – EMBAJADOR 250K \n  \n Enlace de videoconferencia vía plataforma ZOOM\, click aquí:  \nhttps://us05web.zoom.us/j/86831566135?pwd=XLKaV2uLGWFNAyptYHBi2axM1OuExa.1
URL:https://seinfinity.pro/eventos/presentacion-de-negocios-122/
CATEGORIES:Presentación de Negocio
ATTACH;FMTTYPE=image/jpeg:https://seinfinity.pro/wp-content/uploads/2025/12/WhatsApp-Image-2025-12-29-at-10.57.30.jpeg
END:VEVENT
BEGIN:VEVENT
DTSTART;TZID=America/Lima:20251226T200000
DTEND;TZID=America/Lima:20251226T210000
DTSTAMP:20260422T135108
CREATED:20251229T195058Z
LAST-MODIFIED:20251229T195058Z
UID:4667-1766779200-1766782800@seinfinity.pro
SUMMARY:PRESENTACIÓN DE NEGOCIOS
DESCRIPTION: INICIO: 08:00 P.M. (hora Perú) \n APERTURA: 07:50 P.M. \n Expositores: MARGARITA ENRÍQUEZ – EMBAJADOR ÉLITE \nWANDER QUISPE – EMBAJADOR 100K \n  \n Enlace de videoconferencia vía plataforma ZOOM\, click aquí:  \nhttps://us05web.zoom.us/j/86831566135?pwd=XLKaV2uLGWFNAyptYHBi2axM1OuExa.1
URL:https://seinfinity.pro/eventos/presentacion-de-negocios-121/
CATEGORIES:Presentación de Negocio
ATTACH;FMTTYPE=image/jpeg:https://seinfinity.pro/wp-content/uploads/2025/12/FLYER-CONFERENCIA-ZOOM-WANDER-QUISPE-MARGARITA-ENRIQUEZ-26-12.jpg
END:VEVENT
BEGIN:VEVENT
DTSTART;TZID=America/Lima:20251224T200000
DTEND;TZID=America/Lima:20251224T210000
DTSTAMP:20260422T135108
CREATED:20251229T174559Z
LAST-MODIFIED:20251229T174559Z
UID:4664-1766606400-1766610000@seinfinity.pro
SUMMARY:PRESENTACIÓN DE NEGOCIOS
DESCRIPTION: INICIO: 08:00 P.M. (hora Perú) \n APERTURA: 07:50 P.M. \n Expositores: JENNIFER OMACHEA – EMBAJADOR DIAMANTE \nBETTSY OLAZABAL – EMBAJADOR 100K \n  \n Enlace de videoconferencia vía plataforma ZOOM\, click aquí:  \nhttps://us05web.zoom.us/j/86831566135?pwd=XLKaV2uLGWFNAyptYHBi2axM1OuExa.1
URL:https://seinfinity.pro/eventos/presentacion-de-negocios-120/
CATEGORIES:Presentación de Negocio
ATTACH;FMTTYPE=image/jpeg:https://seinfinity.pro/wp-content/uploads/2025/12/FLYER-CONFERENCIA-ZOOM-JENIFER-ORMACHEA-BETTSY-OLAZABAL-24-12.jpg
END:VEVENT
BEGIN:VEVENT
DTSTART;TZID=America/Lima:20251222T200000
DTEND;TZID=America/Lima:20251222T210000
DTSTAMP:20260422T135108
CREATED:20251229T212646Z
LAST-MODIFIED:20251229T212646Z
UID:4678-1766433600-1766437200@seinfinity.pro
SUMMARY:PRESENTACIÓN DE NEGOCIOS
DESCRIPTION: INICIO: 08:00 P.M. (hora Perú) \n APERTURA: 07:50 P.M. \n Expositores: JOAN MEJÍAS – EMBAJADOR DIAMANTE \nHENRY ARGANDOÑA – EMBAJADOR DIAMANTE \n  \n Enlace de videoconferencia vía plataforma ZOOM\, click aquí:  \nhttps://us05web.zoom.us/j/86831566135?pwd=XLKaV2uLGWFNAyptYHBi2axM1OuExa.1
URL:https://seinfinity.pro/eventos/presentacion-de-negocios-123/
CATEGORIES:Presentación de Negocio
ATTACH;FMTTYPE=image/jpeg:https://seinfinity.pro/wp-content/uploads/2025/12/WhatsApp-Image-2025-12-22-at-19.56.22.jpeg
END:VEVENT
BEGIN:VEVENT
DTSTART;TZID=America/Lima:20251221T200000
DTEND;TZID=America/Lima:20251221T210000
DTSTAMP:20260422T135108
CREATED:20251229T200617Z
LAST-MODIFIED:20251229T200617Z
UID:4675-1766347200-1766350800@seinfinity.pro
SUMMARY:TALLER
DESCRIPTION: INICIO: 08:00 P.M. (hora Perú) \n APERTURA: 07:45 P.M. \n Expositor: LEANDRO LOAIZA – EMBAJADOR ÉLITE \n  \n Enlace de videoconferencia vía plataforma ZOOM\, click aquí:  \n  \nhttps://us05web.zoom.us/j/86831566135?pwd=XLKaV2uLGWFNAyptYHBi2axM1OuExa.1
URL:https://seinfinity.pro/eventos/taller-37/
CATEGORIES:Presentación de Negocio
ATTACH;FMTTYPE=image/jpeg:https://seinfinity.pro/wp-content/uploads/2025/12/WhatsApp-Image-2025-12-21-at-19.54.27.jpeg
END:VEVENT
BEGIN:VEVENT
DTSTART;TZID=America/Lima:20251219T200000
DTEND;TZID=America/Lima:20251219T210000
DTSTAMP:20260422T135108
CREATED:20251229T170336Z
LAST-MODIFIED:20251229T170336Z
UID:4659-1766174400-1766178000@seinfinity.pro
SUMMARY:PRESENTACIÓN DE NEGOCIOS
DESCRIPTION: INICIO: 08:00 P.M. (hora Perú) \n APERTURA: 07:50 P.M. \n Expositores: MARINA ERAZO – EMBAJADORA ELITE \n  \n Enlace de videoconferencia vía plataforma ZOOM\, click aquí:  \nhttps://us05web.zoom.us/j/86831566135?pwd=XLKaV2uLGWFNAyptYHBi2axM1OuExa.1
URL:https://seinfinity.pro/eventos/presentacion-de-negocios-119/
CATEGORIES:Presentación de Negocio
ATTACH;FMTTYPE=image/jpeg:https://seinfinity.pro/wp-content/uploads/2025/12/FLYER-CONFERENCIA-ZOOM-MARINA-ERAZO-19-12-2.jpg
END:VEVENT
BEGIN:VEVENT
DTSTART;TZID=America/Lima:20251217T200000
DTEND;TZID=America/Lima:20251217T210000
DTSTAMP:20260422T135108
CREATED:20251217T203537Z
LAST-MODIFIED:20251217T203537Z
UID:4652-1766001600-1766005200@seinfinity.pro
SUMMARY:PRESENTACIÓN DE NEGOCIOS
DESCRIPTION: INICIO: 08:00 P.M. (hora Perú) \n APERTURA: 07:50 P.M. \n Expositores: ROXANA CABALLERO – EMBAJADORA 250K \nCATALINA CCOMPI – EMBAJADORA 250K \n  \n Enlace de videoconferencia vía plataforma ZOOM\, click aquí:  \nhttps://us05web.zoom.us/j/86831566135?pwd=XLKaV2uLGWFNAyptYHBi2axM1OuExa.1
URL:https://seinfinity.pro/eventos/presentacion-de-negocios-118/
CATEGORIES:Presentación de Negocio
ATTACH;FMTTYPE=image/jpeg:https://seinfinity.pro/wp-content/uploads/2025/12/FLYER-CONFERENCIA-ZOOM-CATALINA-CCOMPI-ROXANA-CABALLERO-17-12.jpg
END:VEVENT
BEGIN:VEVENT
DTSTART;TZID=America/Lima:20251215T200000
DTEND;TZID=America/Lima:20251215T210000
DTSTAMP:20260422T135108
CREATED:20251217T201603Z
LAST-MODIFIED:20251217T201604Z
UID:4649-1765828800-1765832400@seinfinity.pro
SUMMARY:PRESENTACIÓN DE NEGOCIOS
DESCRIPTION: INICIO: 08:00 P.M. (hora Perú) \n APERTURA: 07:50 P.M. \n Expositores: MARINA ERAZO – EMBAJADOR ÉLITE \nMARCELINA LUNA – EMBAJADOR DIAMANTE \n  \n Enlace de videoconferencia vía plataforma ZOOM\, click aquí:  \nhttps://us05web.zoom.us/j/86831566135?pwd=XLKaV2uLGWFNAyptYHBi2axM1OuExa.1
URL:https://seinfinity.pro/eventos/presentacion-de-negocios-117/
CATEGORIES:Presentación de Negocio
ATTACH;FMTTYPE=image/jpeg:https://seinfinity.pro/wp-content/uploads/2025/12/FLYER-CONFERENCIA-ZOOM-MARINA-ERAZO-MARCELINA-LUNA-15-12.jpg
END:VEVENT
BEGIN:VEVENT
DTSTART;TZID=America/Lima:20251214T200000
DTEND;TZID=America/Lima:20251214T210000
DTSTAMP:20260422T135108
CREATED:20251217T201043Z
LAST-MODIFIED:20251217T201043Z
UID:4646-1765742400-1765746000@seinfinity.pro
SUMMARY:TALLER
DESCRIPTION: INICIO: 08:00 P.M. (hora Perú) \n APERTURA: 07:45 P.M. \n Expositor: DICK LOAIZA – EMBAJADOR INFINITY \n  \n Enlace de videoconferencia vía plataforma ZOOM\, click aquí:  \n  \nhttps://us05web.zoom.us/j/86831566135?pwd=XLKaV2uLGWFNAyptYHBi2axM1OuExa.1
URL:https://seinfinity.pro/eventos/taller-36/
CATEGORIES:Presentación de Negocio
ATTACH;FMTTYPE=image/jpeg:https://seinfinity.pro/wp-content/uploads/2025/12/CONFERENCIA-DICK-LOAIZA-14-12-25.jpg
END:VEVENT
BEGIN:VEVENT
DTSTART;TZID=America/Lima:20251212T200000
DTEND;TZID=America/Lima:20251212T210000
DTSTAMP:20260422T135108
CREATED:20251217T195859Z
LAST-MODIFIED:20251217T195859Z
UID:4643-1765569600-1765573200@seinfinity.pro
SUMMARY:PRESENTACIÓN DE NEGOCIOS
DESCRIPTION: INICIO: 08:00 P.M. (hora Perú) \n APERTURA: 07:50 P.M. \n Expositores: LUZMARINA ARMINTA – EMBAJADORA 250K \nWILBER HUAMANRAYME – EMBAJADOR 250K \n  \n Enlace de videoconferencia vía plataforma ZOOM\, click aquí:  \nhttps://us05web.zoom.us/j/86831566135?pwd=XLKaV2uLGWFNAyptYHBi2axM1OuExa.1
URL:https://seinfinity.pro/eventos/presentacion-de-negocios-116/
CATEGORIES:Presentación de Negocio
ATTACH;FMTTYPE=image/jpeg:https://seinfinity.pro/wp-content/uploads/2025/12/FLYER-CONFERENCIA-ZOOM-WILBER-HUAMANRAYME-LUZMARINA-ARMINTA-12-12.jpg
END:VEVENT
BEGIN:VEVENT
DTSTART;TZID=America/Lima:20251210T200000
DTEND;TZID=America/Lima:20251210T210000
DTSTAMP:20260422T135108
CREATED:20251217T195005Z
LAST-MODIFIED:20251217T195005Z
UID:4640-1765396800-1765400400@seinfinity.pro
SUMMARY:PRESENTACIÓN DE NEGOCIOS
DESCRIPTION: INICIO: 08:00 P.M. (hora Perú) \n APERTURA: 07:50 P.M. \n Expositores: JUANA IRIS – EMBAJADORA 100K \nERIKA OLAVE – EMBAJADORA 100K \n  \n Enlace de videoconferencia vía plataforma ZOOM\, click aquí:  \nhttps://us05web.zoom.us/j/86831566135?pwd=XLKaV2uLGWFNAyptYHBi2axM1OuExa.1
URL:https://seinfinity.pro/eventos/presentacion-de-negocios-115/
CATEGORIES:Presentación de Negocio
ATTACH;FMTTYPE=image/jpeg:https://seinfinity.pro/wp-content/uploads/2025/12/FLYER-CONFERENCIA-ZOOM-JUANA-IRIS-ERIKA-OLAVE-10-12.jpg
END:VEVENT
BEGIN:VEVENT
DTSTART;TZID=America/Lima:20251208T200000
DTEND;TZID=America/Lima:20251208T210000
DTSTAMP:20260422T135108
CREATED:20251217T193526Z
LAST-MODIFIED:20251217T193526Z
UID:4635-1765224000-1765227600@seinfinity.pro
SUMMARY:PRESENTACIÓN DE NEGOCIOS
DESCRIPTION: INICIO: 08:00 P.M. (hora Perú) \n APERTURA: 07:50 P.M. \n Expositores: GERMAN QUIROGA – EMBAJADOR DIAMANTE \nNOEMI CRUZ – EMBAJADORA DIAMANTE \n  \n Enlace de videoconferencia vía plataforma ZOOM\, click aquí:  \nhttps://us05web.zoom.us/j/86831566135?pwd=XLKaV2uLGWFNAyptYHBi2axM1OuExa.1
URL:https://seinfinity.pro/eventos/presentacion-de-negocios-114/
CATEGORIES:Presentación de Negocio
ATTACH;FMTTYPE=image/jpeg:https://seinfinity.pro/wp-content/uploads/2025/12/FLYER-CONFERENCIA-ZOOM-GERMAN-QUIROGA-NOEMI-CRUZ-08-12.jpg
END:VEVENT
BEGIN:VEVENT
DTSTART;TZID=America/Lima:20251207T200000
DTEND;TZID=America/Lima:20251207T210000
DTSTAMP:20260422T135108
CREATED:20251217T192049Z
LAST-MODIFIED:20251217T192049Z
UID:4632-1765137600-1765141200@seinfinity.pro
SUMMARY:TALLER
DESCRIPTION: INICIO: 08:00 P.M. (hora Perú) \n APERTURA: 07:45 P.M. \n Expositor: RINA ERAZO – EMBAJADOR INFINITY \n  \n Enlace de videoconferencia vía plataforma ZOOM\, click aquí:  \n  \nhttps://us05web.zoom.us/j/86831566135?pwd=XLKaV2uLGWFNAyptYHBi2axM1OuExa.1
URL:https://seinfinity.pro/eventos/taller-35/
CATEGORIES:Presentación de Negocio
ATTACH;FMTTYPE=image/jpeg:https://seinfinity.pro/wp-content/uploads/2025/12/CONFERENCIA-TALLER-RINA-ERAZO-07-12-25.jpg
END:VEVENT
BEGIN:VEVENT
DTSTART;TZID=America/Lima:20251205T200000
DTEND;TZID=America/Lima:20251205T210000
DTSTAMP:20260422T135108
CREATED:20251217T190742Z
LAST-MODIFIED:20251217T190742Z
UID:4629-1764964800-1764968400@seinfinity.pro
SUMMARY:PRESENTACIÓN DE NEGOCIOS
DESCRIPTION: INICIO: 08:00 P.M. (hora Perú) \n APERTURA: 07:50 P.M. \n Expositores: EDWIN BANDA – EMBAJADORA ÉLITE \nMARCIA GOMEZ – EMBAJADOR 100K \n  \n Enlace de videoconferencia vía plataforma ZOOM\, click aquí:  \nhttps://us05web.zoom.us/j/86831566135?pwd=XLKaV2uLGWFNAyptYHBi2axM1OuExa.1
URL:https://seinfinity.pro/eventos/presentacion-de-negocios-113/
CATEGORIES:Presentación de Negocio
ATTACH;FMTTYPE=image/jpeg:https://seinfinity.pro/wp-content/uploads/2025/12/FLYER-CONFERENCIA-ZOOM-MARCIA-GOMEZ-EDWIN-BANDA-05-12.jpg
END:VEVENT
BEGIN:VEVENT
DTSTART;TZID=America/Lima:20251203T200000
DTEND;TZID=America/Lima:20251203T210000
DTSTAMP:20260422T135108
CREATED:20251217T185954Z
LAST-MODIFIED:20251217T185954Z
UID:4626-1764792000-1764795600@seinfinity.pro
SUMMARY:PRESENTACIÓN DE NEGOCIOS
DESCRIPTION: INICIO: 08:00 P.M. (hora Perú) \n APERTURA: 07:50 P.M. \n Expositores: SUSAN VILLA – EMBAJADORA 100K \nPAOLA ARAPA – EMBAJADOR DIAMANTE \n  \n Enlace de videoconferencia vía plataforma ZOOM\, click aquí:  \nhttps://us05web.zoom.us/j/86831566135?pwd=XLKaV2uLGWFNAyptYHBi2axM1OuExa.1
URL:https://seinfinity.pro/eventos/presentacion-de-negocios-112/
CATEGORIES:Presentación de Negocio
ATTACH;FMTTYPE=image/jpeg:https://seinfinity.pro/wp-content/uploads/2025/12/FLYER-CONFERENCIA-ZOOM-SUSAN-VILLA-PAOLA-ARAPA-03-12.jpg
END:VEVENT
BEGIN:VEVENT
DTSTART;TZID=America/Lima:20251201T200000
DTEND;TZID=America/Lima:20251201T210000
DTSTAMP:20260422T135108
CREATED:20251201T172705Z
LAST-MODIFIED:20251201T172705Z
UID:4607-1764619200-1764622800@seinfinity.pro
SUMMARY:PRESENTACIÓN DE NEGOCIOS
DESCRIPTION:🚨 INICIO: 08:00 P.M. (hora Perú) \n⏰ APERTURA: 07:50 P.M. \n🇵🇪 Expositores: MILAGROS OJEDA – EMBAJADORA 250K \nDINA MENDOZA – EMBAJADORA DIAMANTE \n  \n🎥 Enlace de videoconferencia vía plataforma ZOOM\, click aquí: 👇 \nhttps://us05web.zoom.us/j/86831566135?pwd=XLKaV2uLGWFNAyptYHBi2axM1OuExa.1
URL:https://seinfinity.pro/eventos/presentacion-de-negocios-111/
CATEGORIES:Presentación de Negocio
ATTACH;FMTTYPE=image/jpeg:https://seinfinity.pro/wp-content/uploads/2025/12/FLYER-CONFERENCIA-ZOOM-GUALBERTINA-MENDOZA-MILAGROS-OJEDA-01-12.jpg
END:VEVENT
BEGIN:VEVENT
DTSTART;TZID=America/Lima:20251130T200000
DTEND;TZID=America/Lima:20251130T210000
DTSTAMP:20260422T135108
CREATED:20251124T170604Z
LAST-MODIFIED:20251124T170604Z
UID:4600-1764532800-1764536400@seinfinity.pro
SUMMARY:TALLER
DESCRIPTION:🚨 INICIO: 08:00 P.M. (hora Perú) \n⏰ APERTURA: 07:50 P.M. \n🇵🇪 Expositores: DICK LOAIZA – EMBAJADOR INFINITY \n  \n🎥 Enlace de videoconferencia vía plataforma ZOOM\, click aquí: 👇 \nhttps://us05web.zoom.us/j/86831566135?pwd=XLKaV2uLGWFNAyptYHBi2axM1OuExa.1
URL:https://seinfinity.pro/eventos/taller-34/
CATEGORIES:Presentación de Negocio
ATTACH;FMTTYPE=image/jpeg:https://seinfinity.pro/wp-content/uploads/2025/11/CONFERENCIA-TALLER-DICK-LOAIZA-30-11-25.jpg
END:VEVENT
BEGIN:VEVENT
DTSTART;TZID=America/Lima:20251128T200000
DTEND;TZID=America/Lima:20251128T210000
DTSTAMP:20260422T135108
CREATED:20251124T170412Z
LAST-MODIFIED:20251124T170412Z
UID:4596-1764360000-1764363600@seinfinity.pro
SUMMARY:PRESENTACIÓN DE NEGOCIOS
DESCRIPTION:🚨 INICIO: 08:00 P.M. (hora Perú) \n⏰ APERTURA: 07:50 P.M. \n🇵🇪 Expositores: CAMILA AUCCAPUMA – EMBAJADOR 100K \nLEONID CHILO – EMBAJADOR DIAMANTE \n  \n🎥 Enlace de videoconferencia vía plataforma ZOOM\, click aquí: 👇 \nhttps://us05web.zoom.us/j/86831566135?pwd=XLKaV2uLGWFNAyptYHBi2axM1OuExa.1
URL:https://seinfinity.pro/eventos/presentacion-de-negocios-110/
CATEGORIES:Presentación de Negocio
ATTACH;FMTTYPE=image/jpeg:https://seinfinity.pro/wp-content/uploads/2025/11/FLYER-CONFERENCIA-ZOOM-CAMILA-AUCCAPUMA-LEONID-CHILO-28-11.jpg
END:VEVENT
BEGIN:VEVENT
DTSTART;TZID=America/Lima:20251126T200000
DTEND;TZID=America/Lima:20251126T210000
DTSTAMP:20260422T135108
CREATED:20251124T170038Z
LAST-MODIFIED:20251124T170039Z
UID:4592-1764187200-1764190800@seinfinity.pro
SUMMARY:PRESENTACIÓN DE NEGOCIOS
DESCRIPTION:🚨 INICIO: 08:00 P.M. (hora Perú) \n⏰ APERTURA: 07:50 P.M. \n🇵🇪 Expositores: GLADIS HUAMANRAYME – EMBAJADOR DIAMANTE \nPERCY NINA – EMBAJADOR 250K \n  \n🎥 Enlace de videoconferencia vía plataforma ZOOM\, click aquí: 👇 \nhttps://us05web.zoom.us/j/86831566135?pwd=XLKaV2uLGWFNAyptYHBi2axM1OuExa.1
URL:https://seinfinity.pro/eventos/presentacion-de-negocios-109/
CATEGORIES:Presentación de Negocio
ATTACH;FMTTYPE=image/jpeg:https://seinfinity.pro/wp-content/uploads/2025/11/FLYER-CONFERENCIA-ZOOM-GLADYS-HUAMANRAYME-PERCY-NINA-26-11.jpg
END:VEVENT
BEGIN:VEVENT
DTSTART;TZID=America/Lima:20251124T200000
DTEND;TZID=America/Lima:20251124T210000
DTSTAMP:20260422T135108
CREATED:20251124T165053Z
LAST-MODIFIED:20251124T165054Z
UID:4588-1764014400-1764018000@seinfinity.pro
SUMMARY:PRESENTACIÓN DE NEGOCIOS
DESCRIPTION:🚨 INICIO: 08:00 P.M. (hora Perú) \n⏰ APERTURA: 07:50 P.M. \n🇵🇪 Expositores: EDGAR SANTOS – EMBAJADOR 250K \nHUGO RUSSEL – EMBAJADOR 100K \n  \n🎥 Enlace de videoconferencia vía plataforma ZOOM\, click aquí: 👇 \nhttps://us05web.zoom.us/j/86831566135?pwd=XLKaV2uLGWFNAyptYHBi2axM1OuExa.1
URL:https://seinfinity.pro/eventos/presentacion-de-negocios-108/
CATEGORIES:Presentación de Negocio
ATTACH;FMTTYPE=image/jpeg:https://seinfinity.pro/wp-content/uploads/2025/11/FLYER-CONFERENCIA-ZOOM-HUGO-RUSELL-EDGAR-SANTOS-24-11.jpg
END:VEVENT
BEGIN:VEVENT
DTSTART;TZID=America/Lima:20251123T200000
DTEND;TZID=America/Lima:20251123T210000
DTSTAMP:20260422T135108
CREATED:20251124T164704Z
LAST-MODIFIED:20251124T164704Z
UID:4585-1763928000-1763931600@seinfinity.pro
SUMMARY:TALLER
DESCRIPTION:🚨 INICIO: 08:00 P.M. (hora Perú) \n⏰ APERTURA: 07:50 P.M. \n🇵🇪 Expositores: ROGER QUISPE – EMBAJADOR 250K \n  \n🎥 Enlace de videoconferencia vía plataforma ZOOM\, click aquí: 👇 \nhttps://us05web.zoom.us/j/86831566135?pwd=XLKaV2uLGWFNAyptYHBi2axM1OuExa.1
URL:https://seinfinity.pro/eventos/taller-33/
CATEGORIES:Presentación de Negocio
ATTACH;FMTTYPE=image/jpeg:https://seinfinity.pro/wp-content/uploads/2025/11/CONFERENCIA-TALLER-ROGER-QUISPE-23-11-25.jpg
END:VEVENT
BEGIN:VEVENT
DTSTART;TZID=America/Lima:20251121T200000
DTEND;TZID=America/Lima:20251121T210000
DTSTAMP:20260422T135108
CREATED:20251124T163202Z
LAST-MODIFIED:20251124T163203Z
UID:4582-1763755200-1763758800@seinfinity.pro
SUMMARY:PRESENTACIÓN DE NEGOCIOS
DESCRIPTION:🚨 INICIO: 08:00 P.M. (hora Perú) \n⏰ APERTURA: 07:50 P.M. \n🇵🇪 Expositores: FELICIA LIVANO – EMBAJADOR DIAMANTE \nDORIS GONZALES – EMBAJADOR DIAMANTE \n  \n🎥 Enlace de videoconferencia vía plataforma ZOOM\, click aquí: 👇 \nhttps://us05web.zoom.us/j/86831566135?pwd=XLKaV2uLGWFNAyptYHBi2axM1OuExa.1
URL:https://seinfinity.pro/eventos/presentacion-de-negocios-107/
CATEGORIES:Presentación de Negocio
ATTACH;FMTTYPE=image/jpeg:https://seinfinity.pro/wp-content/uploads/2025/11/FLYER-CONFERENCIA-ZOOM-FELICA-LIVANO-DORIS-GONZALES-21-11-1.jpg
END:VEVENT
BEGIN:VEVENT
DTSTART;TZID=America/Lima:20251119T200000
DTEND;TZID=America/Lima:20251119T210000
DTSTAMP:20260422T135108
CREATED:20251124T162736Z
LAST-MODIFIED:20251124T162736Z
UID:4576-1763582400-1763586000@seinfinity.pro
SUMMARY:PRESENTACIÓN DE NEGOCIOS
DESCRIPTION:🚨 INICIO: 08:00 P.M. (hora Perú) \n⏰ APERTURA: 07:50 P.M. \n🇵🇪 Expositores: PRISCILA DUEÑAS – EMBAJADOR ÉLITE \nDULIA JARA – EMBAJADOR DIAMANTE \n  \n🎥 Enlace de videoconferencia vía plataforma ZOOM\, click aquí: 👇 \nhttps://us05web.zoom.us/j/86831566135?pwd=XLKaV2uLGWFNAyptYHBi2axM1OuExa.1
URL:https://seinfinity.pro/eventos/presentacion-de-negocios-106/
CATEGORIES:Presentación de Negocio
ATTACH;FMTTYPE=image/jpeg:https://seinfinity.pro/wp-content/uploads/2025/11/FLYER-CONFERENCIA-ZOOM-PRISCILA-DUENAS-DULIA-JARA-19-11.jpg
END:VEVENT
BEGIN:VEVENT
DTSTART;TZID=America/Lima:20251117T200000
DTEND;TZID=America/Lima:20251117T210000
DTSTAMP:20260422T135108
CREATED:20251124T162322Z
LAST-MODIFIED:20251124T162322Z
UID:4573-1763409600-1763413200@seinfinity.pro
SUMMARY:PRESENTACIÓN DE NEGOCIOS
DESCRIPTION:🚨 INICIO: 08:00 P.M. (hora Perú) \n⏰ APERTURA: 07:50 P.M. \n🇵🇪 Expositores: HENRY MORA – EMBAJADOR 250K \n  \n🎥 Enlace de videoconferencia vía plataforma ZOOM\, click aquí: 👇 \nhttps://us05web.zoom.us/j/86831566135?pwd=XLKaV2uLGWFNAyptYHBi2axM1OuExa.1
URL:https://seinfinity.pro/eventos/presentacion-de-negocios-105/
CATEGORIES:Presentación de Negocio
ATTACH;FMTTYPE=image/jpeg:https://seinfinity.pro/wp-content/uploads/2025/11/FLYER-CONFERENCIA-ZOOM-HENRY-MORA-17-11.jpg
END:VEVENT
BEGIN:VEVENT
DTSTART;TZID=America/Lima:20251116T200000
DTEND;TZID=America/Lima:20251116T210000
DTSTAMP:20260422T135108
CREATED:20251124T162031Z
LAST-MODIFIED:20251124T162031Z
UID:4569-1763323200-1763326800@seinfinity.pro
SUMMARY:TALLER
DESCRIPTION:🚨 INICIO: 08:00 P.M. (hora Perú) \n⏰ APERTURA: 07:50 P.M. \n🇵🇪 Expositores: CAMILA LÓPEZ – EMBAJADOR 100K \n  \n🎥 Enlace de videoconferencia vía plataforma ZOOM\, click aquí: 👇 \nhttps://us05web.zoom.us/j/86831566135?pwd=XLKaV2uLGWFNAyptYHBi2axM1OuExa.1
URL:https://seinfinity.pro/eventos/taller-32/
CATEGORIES:Presentación de Negocio
ATTACH;FMTTYPE=image/jpeg:https://seinfinity.pro/wp-content/uploads/2025/11/CONFERENCIA-TALLER-CAMILA-LOPEZ-16-11-25.jpg
END:VEVENT
BEGIN:VEVENT
DTSTART;TZID=America/Lima:20251114T200000
DTEND;TZID=America/Lima:20251114T210000
DTSTAMP:20260422T135108
CREATED:20251124T161750Z
LAST-MODIFIED:20251124T161750Z
UID:4566-1763150400-1763154000@seinfinity.pro
SUMMARY:PRESENTACIÓN DE NEGOCIOS
DESCRIPTION:🚨 INICIO: 08:00 P.M. (hora Perú) \n⏰ APERTURA: 07:50 P.M. \n🇵🇪 Expositores: JIMMY SEGOVIA – EMBAJADOR 250K \n  \n🎥 Enlace de videoconferencia vía plataforma ZOOM\, click aquí: 👇 \nhttps://us05web.zoom.us/j/86831566135?pwd=XLKaV2uLGWFNAyptYHBi2axM1OuExa.1
URL:https://seinfinity.pro/eventos/presentacion-de-negocios-104/
CATEGORIES:Presentación de Negocio
ATTACH;FMTTYPE=image/jpeg:https://seinfinity.pro/wp-content/uploads/2025/11/FLYER-CONFERENCIA-ZOOM-JIMMY-SEGOVIA-14-11.jpg
END:VEVENT
BEGIN:VEVENT
DTSTART;TZID=America/Lima:20251112T200000
DTEND;TZID=America/Lima:20251112T210000
DTSTAMP:20260422T135108
CREATED:20251112T161142Z
LAST-MODIFIED:20251112T161142Z
UID:4562-1762977600-1762981200@seinfinity.pro
SUMMARY:PRESENTACIÓN DE NEGOCIOS
DESCRIPTION:🚨 INICIO: 08:00 P.M. (hora Perú) \n⏰ APERTURA: 07:50 P.M. \n🇵🇪 Expositores: JAZMIN MAQQE– EMBAJADOR DIAMANTE \n  \n🎥 Enlace de videoconferencia vía plataforma ZOOM\, click aquí: 👇 \nhttps://us05web.zoom.us/j/86831566135?pwd=XLKaV2uLGWFNAyptYHBi2axM1OuExa.1
URL:https://seinfinity.pro/eventos/presentacion-de-negocios-103/
CATEGORIES:Presentación de Negocio
ATTACH;FMTTYPE=image/jpeg:https://seinfinity.pro/wp-content/uploads/2025/11/FLYER-CONFERENCIA-ZOOM-JAZMIN-MAQQUE-12-11.jpg
END:VEVENT
BEGIN:VEVENT
DTSTART;TZID=America/Lima:20251110T200000
DTEND;TZID=America/Lima:20251110T210000
DTSTAMP:20260422T135108
CREATED:20251112T160056Z
LAST-MODIFIED:20251112T160056Z
UID:4555-1762804800-1762808400@seinfinity.pro
SUMMARY:PRESENTACIÓN DE NEGOCIOS
DESCRIPTION:🚨 INICIO: 08:00 P.M. (hora Perú) \n⏰ APERTURA: 07:50 P.M. \n🇵🇪 Expositores: WALTER ARVIRI – EMBAJADOR ÉLITE \n  \n🎥 Enlace de videoconferencia vía plataforma ZOOM\, click aquí: 👇 \nhttps://us05web.zoom.us/j/86831566135?pwd=XLKaV2uLGWFNAyptYHBi2axM1OuExa.1
URL:https://seinfinity.pro/eventos/presentacion-de-negocios-102/
CATEGORIES:Presentación de Negocio
ATTACH;FMTTYPE=image/jpeg:https://seinfinity.pro/wp-content/uploads/2025/11/FLYER-CONFERENCIA-ZOOM-WALTER-ARVIRI-10-11.jpg
END:VEVENT
BEGIN:VEVENT
DTSTART;TZID=America/Lima:20251109T200000
DTEND;TZID=America/Lima:20251109T210000
DTSTAMP:20260422T135108
CREATED:20251112T152923Z
LAST-MODIFIED:20251112T153058Z
UID:4550-1762718400-1762722000@seinfinity.pro
SUMMARY:TALLER
DESCRIPTION:🚨 INICIO: 08:00 P.M. (hora Perú) \n⏰ APERTURA: 07:50 P.M. \n🇵🇪 Expositores: MONICA LOAIZA – EMBAJADOR ÉLITE \n  \n🎥 Enlace de videoconferencia vía plataforma ZOOM\, click aquí: 👇 \nhttps://us05web.zoom.us/j/86831566135?pwd=XLKaV2uLGWFNAyptYHBi2axM1OuExa.1
URL:https://seinfinity.pro/eventos/presentacion-de-negocios-101/
CATEGORIES:Presentación de Negocio
ATTACH;FMTTYPE=image/jpeg:https://seinfinity.pro/wp-content/uploads/2025/11/CONFERENCIA-TALLER-MONICA-LOAIZA-09-11-25.jpg
END:VEVENT
BEGIN:VEVENT
DTSTART;TZID=America/Lima:20251107T200000
DTEND;TZID=America/Lima:20251107T210000
DTSTAMP:20260422T135108
CREATED:20251112T152348Z
LAST-MODIFIED:20251112T152349Z
UID:4547-1762545600-1762549200@seinfinity.pro
SUMMARY:PRESENTACIÓN DE NEGOCIOS
DESCRIPTION:🚨 INICIO: 08:00 P.M. (hora Perú) \n⏰ APERTURA: 07:50 P.M. \n🇵🇪 Expositores: ROSA BRAVO – EMBAJADOR DIAMANTE \n  \n🎥 Enlace de videoconferencia vía plataforma ZOOM\, click aquí: 👇 \nhttps://us05web.zoom.us/j/86831566135?pwd=XLKaV2uLGWFNAyptYHBi2axM1OuExa.1
URL:https://seinfinity.pro/eventos/presentacion-de-negocios-100/
CATEGORIES:Presentación de Negocio
ATTACH;FMTTYPE=image/jpeg:https://seinfinity.pro/wp-content/uploads/2025/11/FLYER-CONFERENCIA-ZOOM-ROSA-BRAVO-07-11.jpg
END:VEVENT
END:VCALENDAR