BEGIN:VCALENDAR
VERSION:2.0
PRODID:-//SE INFINITY - ECPv6.15.20//NONSGML v1.0//EN
CALSCALE:GREGORIAN
METHOD:PUBLISH
X-ORIGINAL-URL:https://seinfinity.pro
X-WR-CALDESC:Events for SE INFINITY
REFRESH-INTERVAL;VALUE=DURATION:PT1H
X-Robots-Tag:noindex
X-PUBLISHED-TTL:PT1H
BEGIN:VTIMEZONE
TZID:America/Lima
BEGIN:STANDARD
TZOFFSETFROM:-0500
TZOFFSETTO:-0500
TZNAME:-05
DTSTART:20240101T000000
END:STANDARD
END:VTIMEZONE
BEGIN:VEVENT
DTSTART;TZID=America/Lima:20250613T200000
DTEND;TZID=America/Lima:20250613T210000
DTSTAMP:20260423T013930
CREATED:20250613T164259Z
LAST-MODIFIED:20250613T164338Z
UID:4181-1749844800-1749848400@seinfinity.pro
SUMMARY:PRESENTACIÓN DE NEGOCIOS
DESCRIPTION:🚨 INICIO: 08:00 P.M. (hora Perú) \n⏰ APERTURA: 07:50 P.M. \n🇵🇪 Expositores: ROXANA CABALLERO – EMBAJADOR 250K\nMARCIA GOMEZ – EMBAJADOR 100K \n  \n🎥 Enlace de videoconferencia vía plataforma ZOOM\, click aquí: 👇 \nhttps://us05web.zoom.us/j/86831566135?pwd=XLKaV2uLGWFNAyptYHBi2axM1OuExa.1
URL:https://seinfinity.pro/eventos/presentacion-de-negocios-40/
CATEGORIES:Presentación de Negocio
ATTACH;FMTTYPE=image/jpeg:https://seinfinity.pro/wp-content/uploads/2025/06/FLYER-CONFERENCIA-ZOOM-ROXANA-CABALLERO-MARCIA-GOMEZ-13-06.jpg
END:VEVENT
BEGIN:VEVENT
DTSTART;TZID=America/Lima:20250611T200000
DTEND;TZID=America/Lima:20250611T210000
DTSTAMP:20260423T013930
CREATED:20250611T161711Z
LAST-MODIFIED:20250611T161720Z
UID:4177-1749672000-1749675600@seinfinity.pro
SUMMARY:PRESENTACIÓN DE NEGOCIOS
DESCRIPTION:🚨 INICIO: 08:00 P.M. (hora Perú) \n⏰ APERTURA: 07:50 P.M. \n🇵🇪 Expositores: REYNA JIMÉNEZ – EMBAJADOR DIAMANTE\nEDGAR SANTOS – EMBAJADOR 100K \n  \n🎥 Enlace de videoconferencia vía plataforma ZOOM\, click aquí: 👇 \nhttps://us05web.zoom.us/j/86831566135?pwd=XLKaV2uLGWFNAyptYHBi2axM1OuExa.1
URL:https://seinfinity.pro/eventos/presentacion-de-negocios-39/
CATEGORIES:Presentación de Negocio
ATTACH;FMTTYPE=image/jpeg:https://seinfinity.pro/wp-content/uploads/2025/06/FLYER-CONFERENCIA-ZOOM-REINA-JIMENEZ-EDGAR-SANTOS-11-06.jpg
END:VEVENT
BEGIN:VEVENT
DTSTART;TZID=America/Lima:20250609T200000
DTEND;TZID=America/Lima:20250609T210000
DTSTAMP:20260423T013930
CREATED:20250609T152317Z
LAST-MODIFIED:20250609T152341Z
UID:4170-1749499200-1749502800@seinfinity.pro
SUMMARY:PRESENTACIÓN DE NEGOCIOS
DESCRIPTION:🚨 INICIO: 08:00 P.M. (hora Perú) \n⏰ APERTURA: 07:50 P.M. \n🇵🇪 Expositor: LEONID CHILO  – EMBAJADOR 250K \n  \n🎥 Enlace de videoconferencia vía plataforma ZOOM\, click aquí: 👇 \nhttps://us05web.zoom.us/j/86831566135?pwd=XLKaV2uLGWFNAyptYHBi2axM1OuExa.1
URL:https://seinfinity.pro/eventos/presentacion-de-negocios-38/
CATEGORIES:Presentación de Negocio
ATTACH;FMTTYPE=image/jpeg:https://seinfinity.pro/wp-content/uploads/2025/06/FLYER-CONFERENCIA-ZOOM-LEONID-CHILO-09-06.jpg
END:VEVENT
BEGIN:VEVENT
DTSTART;TZID=America/Lima:20250608T200000
DTEND;TZID=America/Lima:20250608T210000
DTSTAMP:20260423T013930
CREATED:20250606T224946Z
LAST-MODIFIED:20250702T174024Z
UID:4167-1749412800-1749416400@seinfinity.pro
SUMMARY:TALLER
DESCRIPTION:🚨 INICIO: 08:00 P.M. (hora Perú) \n⏰ APERTURA: 07:45 P.M. \n🇵🇪 Expositor: DICK LOAIZA – EMBAJADOR INFINITY \n  \n🎥 Enlace de videoconferencia vía plataforma ZOOM\, click aquí: 👇 \n  \nhttps://us05web.zoom.us/j/86831566135?pwd=XLKaV2uLGWFNAyptYHBi2axM1OuExa.1
URL:https://seinfinity.pro/eventos/taller-15/
CATEGORIES:Presentación de Negocio
ATTACH;FMTTYPE=image/jpeg:https://seinfinity.pro/wp-content/uploads/2025/06/FLYER-TALLER-DICK-LOAIZA-08-06-1.jpg
END:VEVENT
BEGIN:VEVENT
DTSTART;TZID=America/Lima:20250607T180000
DTEND;TZID=America/Lima:20250607T190000
DTSTAMP:20260423T013930
CREATED:20250523T205144Z
LAST-MODIFIED:20250702T222625Z
UID:4148-1749319200-1749322800@seinfinity.pro
SUMMARY:EVENTO CORPORATIVO
DESCRIPTION:🚀 Únete a este evento gratuito y sumérgete en el mundo del Blockchain\, una tecnología revolucionaria que está transformando industrias en todo el mundo. \n  \n⏰ Hora de registro: 05:30 PM \n  \n📍 Lugar: Colegio Santo Domingo de Gúzman (Auditorio) \n  \n📌 Dirección: Av. Elías 120\, Abancay. \n  \n🎤 Ponente: Hildmart Pareja y Percy Vizcarra \n  \n💡 No pierdas esta oportunidad única de aprender\, conectar y explorar nuevas posibilidades en la era digital.
URL:https://seinfinity.pro/eventos/evento-corporativo-5/
CATEGORIES:Presentación de Negocio
ATTACH;FMTTYPE=image/jpeg:https://seinfinity.pro/wp-content/uploads/2025/05/EVENTO-ABANCAY-07-06.jpg
END:VEVENT
BEGIN:VEVENT
DTSTART;TZID=America/Lima:20250606T200000
DTEND;TZID=America/Lima:20250606T210000
DTSTAMP:20260423T013930
CREATED:20250606T161100Z
LAST-MODIFIED:20250606T161204Z
UID:4163-1749240000-1749243600@seinfinity.pro
SUMMARY:PRESENTACIÓN DE NEGOCIOS
DESCRIPTION:🚨 INICIO: 08:00 P.M. (hora Perú) \n⏰ APERTURA: 07:50 P.M. \n🇵🇪 Expositores: MARCELINA LUNA  – EMBAJADOR 100K\nNOEMY CRUZ  – EMBAJADOR 100K \n  \n🎥 Enlace de videoconferencia vía plataforma ZOOM\, click aquí: 👇 \nhttps://us05web.zoom.us/j/86831566135?pwd=XLKaV2uLGWFNAyptYHBi2axM1OuExa.1
URL:https://seinfinity.pro/eventos/presentacion-de-negocios-37/
CATEGORIES:Presentación de Negocio
ATTACH;FMTTYPE=image/jpeg:https://seinfinity.pro/wp-content/uploads/2025/06/WhatsApp-Image-2025-06-06-at-11.02.39.jpeg
END:VEVENT
BEGIN:VEVENT
DTSTART;TZID=America/Lima:20250604T200000
DTEND;TZID=America/Lima:20250604T210000
DTSTAMP:20260423T013930
CREATED:20250604T162858Z
LAST-MODIFIED:20250604T163114Z
UID:4159-1749067200-1749070800@seinfinity.pro
SUMMARY:PRESENTACIÓN DE NEGOCIOS
DESCRIPTION:🚨 INICIO: 08:00 P.M. (hora Perú) \n⏰ APERTURA: 07:50 P.M. \n🇵🇪 Expositores: MARGARITA ENRÍQUEZ  – EMBAJADOR DIAMANTE\nMARLENY POZO  – EMBAJADOR 100K \n  \n🎥 Enlace de videoconferencia vía plataforma ZOOM\, click aquí: 👇 \nhttps://us05web.zoom.us/j/86831566135?pwd=XLKaV2uLGWFNAyptYHBi2axM1OuExa.1
URL:https://seinfinity.pro/eventos/presentacion-de-negocios-36/
CATEGORIES:Presentación de Negocio
ATTACH;FMTTYPE=image/jpeg:https://seinfinity.pro/wp-content/uploads/2025/06/FLYER-CONFERENCIA-ZOOM-MARGARITA-ENRIQUEZ-MARLENY-POZO-04-06.jpg
END:VEVENT
BEGIN:VEVENT
DTSTART;TZID=America/Lima:20250602T200000
DTEND;TZID=America/Lima:20250602T210000
DTSTAMP:20260423T013930
CREATED:20250602T155345Z
LAST-MODIFIED:20250602T155345Z
UID:4154-1748894400-1748898000@seinfinity.pro
SUMMARY:PRESENTACIÓN DE NEGOCIOS
DESCRIPTION:🚨 INICIO: 08:00 P.M. (hora Perú) \n⏰ APERTURA: 07:50 P.M. \n🇵🇪 Expositores: GERMAN QUIROGA – EMBAJADOR 250K\nLUZMARINA ARMINTA  – EMBAJADOR 100K \n  \n🎥 Enlace de videoconferencia vía plataforma ZOOM\, click aquí: 👇 \nhttps://us05web.zoom.us/j/86831566135?pwd=XLKaV2uLGWFNAyptYHBi2axM1OuExa.1
URL:https://seinfinity.pro/eventos/presentacion-de-negocios-35/
CATEGORIES:Presentación de Negocio
ATTACH;FMTTYPE=image/jpeg:https://seinfinity.pro/wp-content/uploads/2025/06/FLYER-CONFERENCIA-ZOOM-LUZMARINA-ARMINTA-GERMAN-QUIROGA-02-06.jpg
END:VEVENT
BEGIN:VEVENT
DTSTART;TZID=America/Lima:20250530T200000
DTEND;TZID=America/Lima:20250530T210000
DTSTAMP:20260423T013930
CREATED:20250530T162619Z
LAST-MODIFIED:20250530T162620Z
UID:4151-1748635200-1748638800@seinfinity.pro
SUMMARY:PRESENTACIÓN DE NEGOCIOS
DESCRIPTION:🚨 INICIO: 08:00 P.M. (hora Perú) \n⏰ APERTURA: 07:50 P.M. \n🇵🇪 Expositores: HUGO RUSSEL  – EMBAJADOR 100K\nKATHERINE REYES  – EMBAJADOR 100K \n  \n🎥 Enlace de videoconferencia vía plataforma ZOOM\, click aquí: 👇 \nhttps://us05web.zoom.us/j/86831566135?pwd=XLKaV2uLGWFNAyptYHBi2axM1OuExa.1
URL:https://seinfinity.pro/eventos/presentacion-de-negocios-34/
CATEGORIES:Presentación de Negocio
ATTACH;FMTTYPE=image/jpeg:https://seinfinity.pro/wp-content/uploads/2025/05/FLYER-CONFERENCIA-ZOOM-HUGO-RUSSEL-KATHERINE-REYES-30-05.jpg
END:VEVENT
BEGIN:VEVENT
DTSTART;TZID=America/Lima:20250528T200000
DTEND;TZID=America/Lima:20250528T210000
DTSTAMP:20260423T013930
CREATED:20250515T161237Z
LAST-MODIFIED:20250516T211947Z
UID:4121-1748462400-1748466000@seinfinity.pro
SUMMARY:EVENTO CORPORATIVO
DESCRIPTION:🚀 Únete a este evento gratuito y sumérgete en el mundo del Blockchain\, una tecnología revolucionaria que está transformando industrias en todo el mundo. \n  \n⏰ Hora de registro: 07:30 PM \n  \n📍 Lugar: Patio Panorama – Sala SUM (4to piso) \n  \n📌 Dirección: Av. Circunvalación del Golf los Incas 134\, Santiago de Surco. \n  \n🎤 Ponente: Percy Vizcarra \n  \n💡 No pierdas esta oportunidad única de aprender\, conectar y explorar nuevas posibilidades en la era digital.
URL:https://seinfinity.pro/eventos/evento-corporativo-4/
LOCATION:Patio Panorama\, Av. Circunvalación del Golf los Incas 134\, Surco\, Peru
CATEGORIES:Presentación de Negocio
ATTACH;FMTTYPE=image/jpeg:https://seinfinity.pro/wp-content/uploads/2025/05/EVENTO-LIMA-28-05.jpg
END:VEVENT
BEGIN:VEVENT
DTSTART;TZID=America/Lima:20250525T200000
DTEND;TZID=America/Lima:20250525T210000
DTSTAMP:20260423T013930
CREATED:20250523T161240Z
LAST-MODIFIED:20250523T161240Z
UID:4145-1748203200-1748206800@seinfinity.pro
SUMMARY:TALLER
DESCRIPTION:🚨 INICIO: 08:00 P.M. (hora Perú) \n⏰ APERTURA: 07:45 P.M. \n🇵🇪 Expositora: RINA ERAZO – EMBAJADOR INFINITY \n  \n🎥 Enlace de videoconferencia vía plataforma ZOOM\, click aquí: 👇 \n  \nhttps://us05web.zoom.us/j/86831566135?pwd=XLKaV2uLGWFNAyptYHBi2axM1OuExa.1
URL:https://seinfinity.pro/eventos/taller-14/
CATEGORIES:Presentación de Negocio
ATTACH;FMTTYPE=image/jpeg:https://seinfinity.pro/wp-content/uploads/2025/05/CONFERENCIA-TALLER-RINA-ERAZO-25-05-25.jpg
END:VEVENT
BEGIN:VEVENT
DTSTART;TZID=America/Lima:20250521T200000
DTEND;TZID=America/Lima:20250521T210000
DTSTAMP:20260423T013930
CREATED:20250516T213602Z
LAST-MODIFIED:20250516T213602Z
UID:4142-1747857600-1747861200@seinfinity.pro
SUMMARY:PRESENTACIÓN DE NEGOCIOS
DESCRIPTION:🚨 INICIO: 08:00 P.M. (hora Perú) \n⏰ APERTURA: 07:50 P.M. \n🇵🇪 Expositores: PRISCILA DUEÑAS – EMBAJADOR DIAMANTE\nSUSAN VILLA – EMBAJADOR 100K \n  \n🎥 Enlace de videoconferencia vía plataforma ZOOM\, click aquí: 👇 \nhttps://us05web.zoom.us/j/86831566135?pwd=XLKaV2uLGWFNAyptYHBi2axM1OuExa.1
URL:https://seinfinity.pro/eventos/presentacion-de-negocios-33/
CATEGORIES:Presentación de Negocio
ATTACH;FMTTYPE=image/jpeg:https://seinfinity.pro/wp-content/uploads/2025/05/FLYER-CONFERENCIA-ZOOM-SUSAN-VILLA-PRISCILA-DUENAS-21-05-1.jpg
END:VEVENT
BEGIN:VEVENT
DTSTART;TZID=America/Lima:20250519T200000
DTEND;TZID=America/Lima:20250519T210000
DTSTAMP:20260423T013930
CREATED:20250516T213011Z
LAST-MODIFIED:20250516T213011Z
UID:4139-1747684800-1747688400@seinfinity.pro
SUMMARY:PRESENTACIÓN DE NEGOCIOS
DESCRIPTION:🚨 INICIO: 08:00 P.M. (hora Perú) \n⏰ APERTURA: 07:50 P.M. \n🇵🇪 Expositores: SONIA SERRANO – EMBAJADOR DIAMANTE\nCAMILA– AUCCAPUMA 100K \n  \n🎥 Enlace de videoconferencia vía plataforma ZOOM\, click aquí: 👇 \nhttps://us05web.zoom.us/j/86831566135?pwd=XLKaV2uLGWFNAyptYHBi2axM1OuExa.1
URL:https://seinfinity.pro/eventos/presentacion-de-negocios-32/
CATEGORIES:Presentación de Negocio
ATTACH;FMTTYPE=image/jpeg:https://seinfinity.pro/wp-content/uploads/2025/05/FLYER-CONFERENCIA-ZOOM-SONIA-SERRANO-CAMILA-AUCCAPUMA-18-05.jpg
END:VEVENT
BEGIN:VEVENT
DTSTART;TZID=America/Lima:20250518T200000
DTEND;TZID=America/Lima:20250518T210000
DTSTAMP:20260423T013930
CREATED:20250516T164434Z
LAST-MODIFIED:20250516T164434Z
UID:4132-1747598400-1747602000@seinfinity.pro
SUMMARY:TALLER
DESCRIPTION:🚨 INICIO: 08:00 P.M. (hora Perú) \n⏰ APERTURA: 07:45 P.M. \n🇵🇪 Expositora: MARINA ERAZO – EMBAJADOR DIAMANTE \n  \n🎥 Enlace de videoconferencia vía plataforma ZOOM\, click aquí: 👇 \n  \nhttps://us05web.zoom.us/j/86831566135?pwd=XLKaV2uLGWFNAyptYHBi2axM1OuExa.1
URL:https://seinfinity.pro/eventos/taller-13/
CATEGORIES:Presentación de Negocio
ATTACH;FMTTYPE=image/jpeg:https://seinfinity.pro/wp-content/uploads/2025/05/CONFERENCIA-TALLER-MARINA-ERAZO-18-05-25.jpg
END:VEVENT
BEGIN:VEVENT
DTSTART;TZID=America/Lima:20250516T200000
DTEND;TZID=America/Lima:20250516T210000
DTSTAMP:20260423T013930
CREATED:20250516T164710Z
LAST-MODIFIED:20250516T164710Z
UID:4135-1747425600-1747429200@seinfinity.pro
SUMMARY:PRESENTACIÓN DE NEGOCIOS
DESCRIPTION:🚨 INICIO: 08:00 P.M. (hora Perú) \n⏰ APERTURA: 07:50 P.M. \n🇵🇪 Expositores: ELIZA CUSI  – EMBAJADOR DIAMANTE\nPERCY NINA – EMBAJADOR 100K \n  \n🎥 Enlace de videoconferencia vía plataforma ZOOM\, click aquí: 👇 \nhttps://us05web.zoom.us/j/86831566135?pwd=XLKaV2uLGWFNAyptYHBi2axM1OuExa.1
URL:https://seinfinity.pro/eventos/presentacion-de-negocios-31/
CATEGORIES:Presentación de Negocio
ATTACH;FMTTYPE=image/jpeg:https://seinfinity.pro/wp-content/uploads/2025/05/FLYER-CONFERENCIA-ZOOM-ELIZA-CUSI-PERCY-NINA-16-05.jpg
END:VEVENT
BEGIN:VEVENT
DTSTART;TZID=America/Lima:20250514T200000
DTEND;TZID=America/Lima:20250514T210000
DTSTAMP:20260423T013930
CREATED:20250514T205605Z
LAST-MODIFIED:20250514T205606Z
UID:4118-1747252800-1747256400@seinfinity.pro
SUMMARY:PRESENTACIÓN DE NEGOCIOS
DESCRIPTION:🚨 INICIO: 08:00 P.M. (hora Perú) \n⏰ APERTURA: 07:50 P.M. \n🇵🇪 Expositores: RENE QUISPE – EMBAJADOR 250K\nNILA QUISPE – EMBAJADOR 250K \n  \n🎥 Enlace de videoconferencia vía plataforma ZOOM\, click aquí: 👇 \nhttps://us05web.zoom.us/j/86831566135?pwd=XLKaV2uLGWFNAyptYHBi2axM1OuExa.1
URL:https://seinfinity.pro/eventos/presentacion-de-negocios-30/
CATEGORIES:Presentación de Negocio
ATTACH;FMTTYPE=image/jpeg:https://seinfinity.pro/wp-content/uploads/2025/05/FLYER-CONFERENCIA-ZOOM-RENE-QUISPE-NILA-QUISPE-14-05.jpg
END:VEVENT
BEGIN:VEVENT
DTSTART;TZID=America/Lima:20250512T200000
DTEND;TZID=America/Lima:20250512T210000
DTSTAMP:20260423T013930
CREATED:20250512T230525Z
LAST-MODIFIED:20250512T230526Z
UID:4112-1747080000-1747083600@seinfinity.pro
SUMMARY:PRESENTACIÓN DE NEGOCIOS
DESCRIPTION:🚨 INICIO: 08:00 P.M. (hora Perú) \n⏰ APERTURA: 07:50 P.M. \n🇵🇪 Expositores: GREET PALOMINO – EMBAJADOR 250K\nMILAGROS OJEDA – EMBAJADOR 100K \n  \n🎥 Enlace de videoconferencia vía plataforma ZOOM\, click aquí: 👇 \nhttps://us05web.zoom.us/j/86831566135?pwd=XLKaV2uLGWFNAyptYHBi2axM1OuExa.1
URL:https://seinfinity.pro/eventos/presentacion-de-negocios-29/
CATEGORIES:Presentación de Negocio
ATTACH;FMTTYPE=image/jpeg:https://seinfinity.pro/wp-content/uploads/2025/05/FLYER-CONFERENCIA-ZOOM-GREET-PALOMINO-MILAGROS-OJEDA-12-05.jpg
END:VEVENT
BEGIN:VEVENT
DTSTART;TZID=America/Lima:20250511T200000
DTEND;TZID=America/Lima:20250511T210000
DTSTAMP:20260423T013930
CREATED:20250509T224222Z
LAST-MODIFIED:20250509T224223Z
UID:4079-1746993600-1746997200@seinfinity.pro
SUMMARY:TALLER
DESCRIPTION:🚨 INICIO: 08:00 P.M. (hora Perú) \n⏰ APERTURA: 07:45 P.M. \n🇵🇪 Expositora: RAÚL ACCOTS- EMBAJADOR DIAMANTE \n  \n🎥 Enlace de videoconferencia vía plataforma ZOOM\, click aquí: 👇 \n  \nhttps://us05web.zoom.us/j/86831566135?pwd=XLKaV2uLGWFNAyptYHBi2axM1OuExa.1
URL:https://seinfinity.pro/eventos/taller-12/
CATEGORIES:Presentación de Negocio
ATTACH;FMTTYPE=image/jpeg:https://seinfinity.pro/wp-content/uploads/2025/05/CONFERENCIA-TALLER-RAUL-ACCOTS-11-05-25.jpg
END:VEVENT
BEGIN:VEVENT
DTSTART;TZID=America/Lima:20250509T200000
DTEND;TZID=America/Lima:20250509T210000
DTSTAMP:20260423T013930
CREATED:20250509T223131Z
LAST-MODIFIED:20250509T223131Z
UID:4075-1746820800-1746824400@seinfinity.pro
SUMMARY:PRESENTACIÓN DE NEGOCIOS
DESCRIPTION:🚨 INICIO: 08:00 P.M. (hora Perú) \n⏰ APERTURA: 07:50 P.M. \n🇵🇪 Expositores: FELICIA LIVANO – EMBAJADOR DIAMANTE\nSORAIRA CCORI – EMBAJADOR 100K \n  \n🎥 Enlace de videoconferencia vía plataforma ZOOM\, click aquí: 👇 \nhttps://us05web.zoom.us/j/86831566135?pwd=XLKaV2uLGWFNAyptYHBi2axM1OuExa.1
URL:https://seinfinity.pro/eventos/presentacion-de-negocios-28/
CATEGORIES:Presentación de Negocio
ATTACH;FMTTYPE=image/jpeg:https://seinfinity.pro/wp-content/uploads/2025/05/WhatsApp-Image-2025-05-09-at-15.01.31.jpeg
END:VEVENT
BEGIN:VEVENT
DTSTART;TZID=America/Lima:20250505T200000
DTEND;TZID=America/Lima:20250505T210000
DTSTAMP:20260423T013930
CREATED:20250506T140603Z
LAST-MODIFIED:20250506T140604Z
UID:4065-1746475200-1746478800@seinfinity.pro
SUMMARY:PRESENTACIÓN DE NEGOCIOS
DESCRIPTION:🚨 INICIO: 08:00 P.M. (hora Perú) \n⏰ APERTURA: 07:50 P.M. \n🇵🇪 Expositores: ROYER QUISPE -EMBAJADOR DIAMANTE\nERIKA OLAVE – EMBAJADOR 100K \n  \n🎥 Enlace de videoconferencia vía plataforma ZOOM\, click aquí: 👇 \n  \nhttps://us05web.zoom.us/j/86831566135?pwd=XLKaV2uLGWFNAyptYHBi2axM1OuExa.1
URL:https://seinfinity.pro/eventos/presentacion-de-negocios-27/
CATEGORIES:Presentación de Negocio
ATTACH;FMTTYPE=image/jpeg:https://seinfinity.pro/wp-content/uploads/2025/05/Imagen-de-WhatsApp-2025-05-05-a-las-19.55.17_77ecf7bb.jpg
END:VEVENT
BEGIN:VEVENT
DTSTART;TZID=America/Lima:20250502T200000
DTEND;TZID=America/Lima:20250502T210000
DTSTAMP:20260423T013930
CREATED:20250430T160446Z
LAST-MODIFIED:20250430T160446Z
UID:4059-1746216000-1746219600@seinfinity.pro
SUMMARY:PRESENTACIÓN DE NEGOCIOS
DESCRIPTION:🚨 INICIO: 08:00 P.M. (hora Perú) \n⏰ APERTURA: 07:50 P.M. \n🇵🇪 Expositor: ROSA BRAVO-EMBAJADOR DIAMANTE \n🎥 Enlace de videoconferencia vía plataforma ZOOM\, click aquí: 👇 \n  \nhttps://us05web.zoom.us/j/86831566135?pwd=XLKaV2uLGWFNAyptYHBi2axM1OuExa.1
URL:https://seinfinity.pro/eventos/presentacion-de-negocios-26/
CATEGORIES:Presentación de Negocio
ATTACH;FMTTYPE=image/jpeg:https://seinfinity.pro/wp-content/uploads/2025/04/FLYER-CONFERENCIA-ROSA.jpg
END:VEVENT
BEGIN:VEVENT
DTSTART;TZID=America/Lima:20250430T200000
DTEND;TZID=America/Lima:20250430T210000
DTSTAMP:20260423T013930
CREATED:20250430T155955Z
LAST-MODIFIED:20250430T155955Z
UID:4056-1746043200-1746046800@seinfinity.pro
SUMMARY:PRESENTACIÓN DE NEGOCIOS
DESCRIPTION:🚨 INICIO: 08:00 P.M. (hora Perú) \n⏰ APERTURA: 07:50 P.M. \n🇵🇪 Expositor: AMERICO HUAMAN-EMBAJADOR 250K \n🎥 Enlace de videoconferencia vía plataforma *ZOOM*\, click aquí: 👇 \n  \nhttps://us05web.zoom.us/j/86831566135?pwd=XLKaV2uLGWFNAyptYHBi2axM1OuExa.1
URL:https://seinfinity.pro/eventos/presentacion-de-negocios-25/
CATEGORIES:Presentación de Negocio
ATTACH;FMTTYPE=image/jpeg:https://seinfinity.pro/wp-content/uploads/2025/04/FLYER-CONFERENCIA-DOMENICO1.jpg
END:VEVENT
BEGIN:VEVENT
DTSTART;TZID=America/Lima:20250425T200000
DTEND;TZID=America/Lima:20250425T210000
DTSTAMP:20260423T013930
CREATED:20250422T154306Z
LAST-MODIFIED:20250422T154306Z
UID:4031-1745611200-1745614800@seinfinity.pro
SUMMARY:PRESENTACIÓN DE NEGOCIOS
DESCRIPTION:🚨 INICIO: 08:00 P.M. (hora Perú) \n⏰ APERTURA: 07:50 P.M. \n  \n🇵🇪 Expositor: ALEXANDER LOAIZA-EMBAJADOR 250K \n🎥 Enlace de videoconferencia vía plataforma ZOOM\, click aquí: 👇 \n  \nhttps://us05web.zoom.us/j/86831566135?pwd=XLKaV2uLGWFNAyptYHBi2axM1OuExa.1
URL:https://seinfinity.pro/eventos/presentacion-de-negocios-23/
CATEGORIES:Presentación de Negocio
ATTACH;FMTTYPE=image/jpeg:https://seinfinity.pro/wp-content/uploads/2025/04/CONFERENCIA-ZOOM-ALEXANDER-LOAIZA-25-04-25.jpg
END:VEVENT
BEGIN:VEVENT
DTSTART;TZID=America/Lima:20250423T200000
DTEND;TZID=America/Lima:20250423T210000
DTSTAMP:20260423T013930
CREATED:20250422T154050Z
LAST-MODIFIED:20250422T154051Z
UID:4028-1745438400-1745442000@seinfinity.pro
SUMMARY:PRESENTACIÓN DE NEGOCIOS
DESCRIPTION:🚨 INICIO: 08:00 P.M. (hora Perú) \n⏰ APERTURA: 07:50 P.M. \n🇵🇪 Expositor: JIMMY SEGOVIA-EMBAJADOR 100K \n  \n🎥 Enlace de videoconferencia vía plataforma ZOOM\, click aquí: 👇 \n  \nhttps://us05web.zoom.us/j/86831566135?pwd=XLKaV2uLGWFNAyptYHBi2axM1OuExa.1 \n 
URL:https://seinfinity.pro/eventos/presentacion-de-negocios-22/
CATEGORIES:Presentación de Negocio
ATTACH;FMTTYPE=image/jpeg:https://seinfinity.pro/wp-content/uploads/2025/04/CONFERENCIA-ZOOM-JIMMY-SEGOVIA-23-04-25.jpg
END:VEVENT
END:VCALENDAR