BEGIN:VCALENDAR
VERSION:2.0
PRODID:-//SE INFINITY - ECPv6.15.20//NONSGML v1.0//EN
CALSCALE:GREGORIAN
METHOD:PUBLISH
X-WR-CALNAME:SE INFINITY
X-ORIGINAL-URL:https://seinfinity.pro
X-WR-CALDESC:Events for SE INFINITY
REFRESH-INTERVAL;VALUE=DURATION:PT1H
X-Robots-Tag:noindex
X-PUBLISHED-TTL:PT1H
BEGIN:VTIMEZONE
TZID:America/Lima
BEGIN:STANDARD
TZOFFSETFROM:-0500
TZOFFSETTO:-0500
TZNAME:-05
DTSTART:20240101T000000
END:STANDARD
END:VTIMEZONE
BEGIN:VEVENT
DTSTART;TZID=America/Lima:20251116T200000
DTEND;TZID=America/Lima:20251116T210000
DTSTAMP:20260422T134938
CREATED:20251124T162031Z
LAST-MODIFIED:20251124T162031Z
UID:4569-1763323200-1763326800@seinfinity.pro
SUMMARY:TALLER
DESCRIPTION:🚨 INICIO: 08:00 P.M. (hora Perú) \n⏰ APERTURA: 07:50 P.M. \n🇵🇪 Expositores: CAMILA LÓPEZ – EMBAJADOR 100K \n  \n🎥 Enlace de videoconferencia vía plataforma ZOOM\, click aquí: 👇 \nhttps://us05web.zoom.us/j/86831566135?pwd=XLKaV2uLGWFNAyptYHBi2axM1OuExa.1
URL:https://seinfinity.pro/eventos/taller-32/
CATEGORIES:Presentación de Negocio
ATTACH;FMTTYPE=image/jpeg:https://seinfinity.pro/wp-content/uploads/2025/11/CONFERENCIA-TALLER-CAMILA-LOPEZ-16-11-25.jpg
END:VEVENT
BEGIN:VEVENT
DTSTART;TZID=America/Lima:20251114T200000
DTEND;TZID=America/Lima:20251114T210000
DTSTAMP:20260422T134938
CREATED:20251124T161750Z
LAST-MODIFIED:20251124T161750Z
UID:4566-1763150400-1763154000@seinfinity.pro
SUMMARY:PRESENTACIÓN DE NEGOCIOS
DESCRIPTION:🚨 INICIO: 08:00 P.M. (hora Perú) \n⏰ APERTURA: 07:50 P.M. \n🇵🇪 Expositores: JIMMY SEGOVIA – EMBAJADOR 250K \n  \n🎥 Enlace de videoconferencia vía plataforma ZOOM\, click aquí: 👇 \nhttps://us05web.zoom.us/j/86831566135?pwd=XLKaV2uLGWFNAyptYHBi2axM1OuExa.1
URL:https://seinfinity.pro/eventos/presentacion-de-negocios-104/
CATEGORIES:Presentación de Negocio
ATTACH;FMTTYPE=image/jpeg:https://seinfinity.pro/wp-content/uploads/2025/11/FLYER-CONFERENCIA-ZOOM-JIMMY-SEGOVIA-14-11.jpg
END:VEVENT
BEGIN:VEVENT
DTSTART;TZID=America/Lima:20251112T200000
DTEND;TZID=America/Lima:20251112T210000
DTSTAMP:20260422T134938
CREATED:20251112T161142Z
LAST-MODIFIED:20251112T161142Z
UID:4562-1762977600-1762981200@seinfinity.pro
SUMMARY:PRESENTACIÓN DE NEGOCIOS
DESCRIPTION:🚨 INICIO: 08:00 P.M. (hora Perú) \n⏰ APERTURA: 07:50 P.M. \n🇵🇪 Expositores: JAZMIN MAQQE– EMBAJADOR DIAMANTE \n  \n🎥 Enlace de videoconferencia vía plataforma ZOOM\, click aquí: 👇 \nhttps://us05web.zoom.us/j/86831566135?pwd=XLKaV2uLGWFNAyptYHBi2axM1OuExa.1
URL:https://seinfinity.pro/eventos/presentacion-de-negocios-103/
CATEGORIES:Presentación de Negocio
ATTACH;FMTTYPE=image/jpeg:https://seinfinity.pro/wp-content/uploads/2025/11/FLYER-CONFERENCIA-ZOOM-JAZMIN-MAQQUE-12-11.jpg
END:VEVENT
BEGIN:VEVENT
DTSTART;TZID=America/Lima:20251110T200000
DTEND;TZID=America/Lima:20251110T210000
DTSTAMP:20260422T134938
CREATED:20251112T160056Z
LAST-MODIFIED:20251112T160056Z
UID:4555-1762804800-1762808400@seinfinity.pro
SUMMARY:PRESENTACIÓN DE NEGOCIOS
DESCRIPTION:🚨 INICIO: 08:00 P.M. (hora Perú) \n⏰ APERTURA: 07:50 P.M. \n🇵🇪 Expositores: WALTER ARVIRI – EMBAJADOR ÉLITE \n  \n🎥 Enlace de videoconferencia vía plataforma ZOOM\, click aquí: 👇 \nhttps://us05web.zoom.us/j/86831566135?pwd=XLKaV2uLGWFNAyptYHBi2axM1OuExa.1
URL:https://seinfinity.pro/eventos/presentacion-de-negocios-102/
CATEGORIES:Presentación de Negocio
ATTACH;FMTTYPE=image/jpeg:https://seinfinity.pro/wp-content/uploads/2025/11/FLYER-CONFERENCIA-ZOOM-WALTER-ARVIRI-10-11.jpg
END:VEVENT
BEGIN:VEVENT
DTSTART;TZID=America/Lima:20251109T200000
DTEND;TZID=America/Lima:20251109T210000
DTSTAMP:20260422T134938
CREATED:20251112T152923Z
LAST-MODIFIED:20251112T153058Z
UID:4550-1762718400-1762722000@seinfinity.pro
SUMMARY:TALLER
DESCRIPTION:🚨 INICIO: 08:00 P.M. (hora Perú) \n⏰ APERTURA: 07:50 P.M. \n🇵🇪 Expositores: MONICA LOAIZA – EMBAJADOR ÉLITE \n  \n🎥 Enlace de videoconferencia vía plataforma ZOOM\, click aquí: 👇 \nhttps://us05web.zoom.us/j/86831566135?pwd=XLKaV2uLGWFNAyptYHBi2axM1OuExa.1
URL:https://seinfinity.pro/eventos/presentacion-de-negocios-101/
CATEGORIES:Presentación de Negocio
ATTACH;FMTTYPE=image/jpeg:https://seinfinity.pro/wp-content/uploads/2025/11/CONFERENCIA-TALLER-MONICA-LOAIZA-09-11-25.jpg
END:VEVENT
BEGIN:VEVENT
DTSTART;TZID=America/Lima:20251107T200000
DTEND;TZID=America/Lima:20251107T210000
DTSTAMP:20260422T134938
CREATED:20251112T152348Z
LAST-MODIFIED:20251112T152349Z
UID:4547-1762545600-1762549200@seinfinity.pro
SUMMARY:PRESENTACIÓN DE NEGOCIOS
DESCRIPTION:🚨 INICIO: 08:00 P.M. (hora Perú) \n⏰ APERTURA: 07:50 P.M. \n🇵🇪 Expositores: ROSA BRAVO – EMBAJADOR DIAMANTE \n  \n🎥 Enlace de videoconferencia vía plataforma ZOOM\, click aquí: 👇 \nhttps://us05web.zoom.us/j/86831566135?pwd=XLKaV2uLGWFNAyptYHBi2axM1OuExa.1
URL:https://seinfinity.pro/eventos/presentacion-de-negocios-100/
CATEGORIES:Presentación de Negocio
ATTACH;FMTTYPE=image/jpeg:https://seinfinity.pro/wp-content/uploads/2025/11/FLYER-CONFERENCIA-ZOOM-ROSA-BRAVO-07-11.jpg
END:VEVENT
BEGIN:VEVENT
DTSTART;TZID=America/Lima:20251105T200000
DTEND;TZID=America/Lima:20251105T210000
DTSTAMP:20260422T134938
CREATED:20251112T151042Z
LAST-MODIFIED:20251112T151042Z
UID:4544-1762372800-1762376400@seinfinity.pro
SUMMARY:PRESENTACIÓN DE NEGOCIOS
DESCRIPTION:🚨 INICIO: 08:00 P.M. (hora Perú) \n⏰ APERTURA: 07:50 P.M. \n🇵🇪 Expositores: KAREN DÍAZ – EMBAJADOR 250K \n  \n🎥 Enlace de videoconferencia vía plataforma ZOOM\, click aquí: 👇 \nhttps://us05web.zoom.us/j/86831566135?pwd=XLKaV2uLGWFNAyptYHBi2axM1OuExa.1
URL:https://seinfinity.pro/eventos/presentacion-de-negocios-99/
CATEGORIES:Presentación de Negocio
ATTACH;FMTTYPE=image/jpeg:https://seinfinity.pro/wp-content/uploads/2025/11/FLYER-CONFERENCIA-ZOOM-KAREN-DIAZ-05-11.jpg
END:VEVENT
BEGIN:VEVENT
DTSTART;TZID=America/Lima:20251103T200000
DTEND;TZID=America/Lima:20251103T210000
DTSTAMP:20260422T134938
CREATED:20251104T211334Z
LAST-MODIFIED:20251104T211334Z
UID:4492-1762200000-1762203600@seinfinity.pro
SUMMARY:PRESENTACIÓN DE NEGOCIOS
DESCRIPTION:🚨 INICIO: 08:00 P.M. (hora Perú) \n⏰ APERTURA: 07:50 P.M. \n🇵🇪 Expositores: ISAÍAS MAQQUE – EMBAJADOR 250K \n  \n🎥 Enlace de videoconferencia vía plataforma ZOOM\, click aquí: 👇 \nhttps://us05web.zoom.us/j/86831566135?pwd=XLKaV2uLGWFNAyptYHBi2axM1OuExa.1
URL:https://seinfinity.pro/eventos/presentacion-de-negocios-98/
CATEGORIES:Presentación de Negocio
ATTACH;FMTTYPE=image/jpeg:https://seinfinity.pro/wp-content/uploads/2025/11/FLYER-CONFERENCIA-ZOOM-ISAIAS-MAQQUE-03-11.jpg
END:VEVENT
BEGIN:VEVENT
DTSTART;TZID=America/Lima:20251102T200000
DTEND;TZID=America/Lima:20251102T210000
DTSTAMP:20260422T134938
CREATED:20251104T210225Z
LAST-MODIFIED:20251104T210226Z
UID:4489-1762113600-1762117200@seinfinity.pro
SUMMARY:TALLER
DESCRIPTION:🚨 INICIO: 08:00 P.M. (hora Perú) \n⏰ APERTURA: 07:45 P.M. \n🇵🇪 Expositor: RICARDO CERNA – EMBAJADOR DIAMANTE \n  \n🎥 Enlace de videoconferencia vía plataforma ZOOM\, click aquí: 👇 \n  \nhttps://us05web.zoom.us/j/86831566135?pwd=XLKaV2uLGWFNAyptYHBi2axM1OuExa.1
URL:https://seinfinity.pro/eventos/taller-31/
CATEGORIES:Presentación de Negocio
ATTACH;FMTTYPE=image/jpeg:https://seinfinity.pro/wp-content/uploads/2025/11/WhatsApp-Image-2025-11-02-at-13.41.55.jpeg
END:VEVENT
BEGIN:VEVENT
DTSTART;TZID=America/Lima:20251031T200000
DTEND;TZID=America/Lima:20251031T210000
DTSTAMP:20260422T134938
CREATED:20251027T193733Z
LAST-MODIFIED:20251027T193733Z
UID:4478-1761940800-1761944400@seinfinity.pro
SUMMARY:PRESENTACIÓN DE NEGOCIOS
DESCRIPTION:🚨 INICIO: 08:00 P.M. (hora Perú) \n⏰ APERTURA: 07:50 P.M. \n🇵🇪 Expositores: MITWAR CORA – EMBAJADOR 100K \n  \n🎥 Enlace de videoconferencia vía plataforma ZOOM\, click aquí: 👇 \nhttps://us05web.zoom.us/j/86831566135?pwd=XLKaV2uLGWFNAyptYHBi2axM1OuExa.1
URL:https://seinfinity.pro/eventos/presentacion-de-negocios-97/
CATEGORIES:Presentación de Negocio
ATTACH;FMTTYPE=image/jpeg:https://seinfinity.pro/wp-content/uploads/2025/10/FLYER-CONFERENCIA-ZOOM-MITWAR-CORA-31-10.jpg
END:VEVENT
BEGIN:VEVENT
DTSTART;TZID=America/Lima:20251029T200000
DTEND;TZID=America/Lima:20251029T210000
DTSTAMP:20260422T134938
CREATED:20251027T192737Z
LAST-MODIFIED:20251027T192737Z
UID:4474-1761768000-1761771600@seinfinity.pro
SUMMARY:PRESENTACIÓN DE NEGOCIOS
DESCRIPTION:🚨 INICIO: 08:00 P.M. (hora Perú) \n⏰ APERTURA: 07:50 P.M. \n🇵🇪 Expositores: AMÉRICO HUAMANI – EMBAJADOR 250K \n  \n🎥 Enlace de videoconferencia vía plataforma ZOOM\, click aquí: 👇 \nhttps://us05web.zoom.us/j/86831566135?pwd=XLKaV2uLGWFNAyptYHBi2axM1OuExa.1
URL:https://seinfinity.pro/eventos/presentacion-de-negocios-96/
CATEGORIES:Presentación de Negocio
ATTACH;FMTTYPE=image/jpeg:https://seinfinity.pro/wp-content/uploads/2025/10/FLYER-CONFERENCIA-ZOOM-AMERICO-HUAMANI-29-10.jpg
END:VEVENT
BEGIN:VEVENT
DTSTART;TZID=America/Lima:20251027T200000
DTEND;TZID=America/Lima:20251027T210000
DTSTAMP:20260422T134938
CREATED:20251027T192541Z
LAST-MODIFIED:20251027T192542Z
UID:4470-1761595200-1761598800@seinfinity.pro
SUMMARY:PRESENTACIÓN DE NEGOCIOS
DESCRIPTION:🚨 INICIO: 08:00 P.M. (hora Perú) \n⏰ APERTURA: 07:50 P.M. \n🇵🇪 Expositores: SUSAN MARTÍNEZ – EMBAJADOR 250K \n  \n🎥 Enlace de videoconferencia vía plataforma ZOOM\, click aquí: 👇 \nhttps://us05web.zoom.us/j/86831566135?pwd=XLKaV2uLGWFNAyptYHBi2axM1OuExa.1
URL:https://seinfinity.pro/eventos/presentacion-de-negocios-95/
CATEGORIES:Presentación de Negocio
ATTACH;FMTTYPE=image/jpeg:https://seinfinity.pro/wp-content/uploads/2025/10/FLYER-CONFERENCIA-ZOOM-SUSAN-MARTINEZ-27-10.jpg
END:VEVENT
BEGIN:VEVENT
DTSTART;TZID=America/Lima:20251026T200000
DTEND;TZID=America/Lima:20251026T210000
DTSTAMP:20260422T134938
CREATED:20251027T190355Z
LAST-MODIFIED:20251027T190355Z
UID:4464-1761508800-1761512400@seinfinity.pro
SUMMARY:TALLER
DESCRIPTION:🚨 INICIO: 08:00 P.M. (hora Perú) \n⏰ APERTURA: 07:45 P.M. \n🇵🇪 Expositor: NÉSTOR RENGIFO – EMBAJADOR ÉLITE \n  \n🎥 Enlace de videoconferencia vía plataforma ZOOM\, click aquí: 👇 \n  \nhttps://us05web.zoom.us/j/86831566135?pwd=XLKaV2uLGWFNAyptYHBi2axM1OuExa.1
URL:https://seinfinity.pro/eventos/taller-30/
CATEGORIES:Presentación de Negocio
ATTACH;FMTTYPE=image/jpeg:https://seinfinity.pro/wp-content/uploads/2025/10/CONFERENCIA-TALLER-NESTOR-RENGIFO-26-10-25.jpg
END:VEVENT
BEGIN:VEVENT
DTSTART;TZID=America/Lima:20251024T200000
DTEND;TZID=America/Lima:20251024T210000
DTSTAMP:20260422T134938
CREATED:20251024T233112Z
LAST-MODIFIED:20251024T233112Z
UID:4460-1761336000-1761339600@seinfinity.pro
SUMMARY:PRESENTACIÓN DE NEGOCIOS
DESCRIPTION:🚨 INICIO: 08:00 P.M. (hora Perú) \n⏰ APERTURA: 07:50 P.M. \n🇵🇪 Expositores: MARÍA REYES – EMBAJADOR 250K \n  \n🎥 Enlace de videoconferencia vía plataforma ZOOM\, click aquí: 👇 \nhttps://us05web.zoom.us/j/86831566135?pwd=XLKaV2uLGWFNAyptYHBi2axM1OuExa.1
URL:https://seinfinity.pro/eventos/presentacion-de-negocios-94/
CATEGORIES:Presentación de Negocio
ATTACH;FMTTYPE=image/jpeg:https://seinfinity.pro/wp-content/uploads/2025/10/WhatsApp-Image-2025-10-24-at-15.30.47.jpeg
END:VEVENT
BEGIN:VEVENT
DTSTART;TZID=America/Lima:20251020T200000
DTEND;TZID=America/Lima:20251020T210000
DTSTAMP:20260422T134938
CREATED:20251021T151106Z
LAST-MODIFIED:20251021T151106Z
UID:4452-1760990400-1760994000@seinfinity.pro
SUMMARY:PRESENTACIÓN DE NEGOCIOS
DESCRIPTION:🚨 INICIO: 08:00 P.M. (hora Perú) \n⏰ APERTURA: 07:50 P.M. \n🇵🇪 Expositores: PERCY VIZCARRA – DIRECTOR DE EXPANSIÓN \n  \n🎥 Enlace de videoconferencia vía plataforma ZOOM\, click aquí: 👇 \nhttps://us05web.zoom.us/j/86831566135?pwd=XLKaV2uLGWFNAyptYHBi2axM1OuExa.1
URL:https://seinfinity.pro/eventos/presentacion-de-negocios-93/
CATEGORIES:Presentación de Negocio
ATTACH;FMTTYPE=image/jpeg:https://seinfinity.pro/wp-content/uploads/2025/10/FLYER-CONFERENCIA-ZOOM-PERCY-VIZCARRA-20-10.jpg
END:VEVENT
BEGIN:VEVENT
DTSTART;TZID=America/Lima:20251019T200000
DTEND;TZID=America/Lima:20251019T210000
DTSTAMP:20260422T134938
CREATED:20251021T151711Z
LAST-MODIFIED:20251021T151711Z
UID:4455-1760904000-1760907600@seinfinity.pro
SUMMARY:TALLER
DESCRIPTION:🚨 INICIO: 08:00 P.M. (hora Perú) \n⏰ APERTURA: 07:45 P.M. \n🇵🇪 Expositor: YEISON PEÑA – EMBAJADOR PRESIDENCIAL \n  \n🎥 Enlace de videoconferencia vía plataforma ZOOM\, click aquí: 👇 \n  \nhttps://us05web.zoom.us/j/86831566135?pwd=XLKaV2uLGWFNAyptYHBi2axM1OuExa.1
URL:https://seinfinity.pro/eventos/taller-29/
CATEGORIES:Presentación de Negocio
ATTACH;FMTTYPE=image/jpeg:https://seinfinity.pro/wp-content/uploads/2025/10/CONFERENCIA-TALLER-YEISON-PENA-19-10-25-1.jpg
END:VEVENT
BEGIN:VEVENT
DTSTART;TZID=America/Lima:20251017T200000
DTEND;TZID=America/Lima:20251017T210000
DTSTAMP:20260422T134938
CREATED:20251017T201909Z
LAST-MODIFIED:20251017T201910Z
UID:4448-1760731200-1760734800@seinfinity.pro
SUMMARY:PRESENTACIÓN DE NEGOCIOS
DESCRIPTION:🚨 INICIO: 08:00 P.M. (hora Perú) \n⏰ APERTURA: 07:50 P.M. \n🇵🇪 Expositores: ALEXANDER LOAIZA – EMBAJADOR 250K \n  \n🎥 Enlace de videoconferencia vía plataforma ZOOM\, click aquí: 👇 \nhttps://us05web.zoom.us/j/86831566135?pwd=XLKaV2uLGWFNAyptYHBi2axM1OuExa.1
URL:https://seinfinity.pro/eventos/presentacion-de-negocios-92/
CATEGORIES:Presentación de Negocio
ATTACH;FMTTYPE=image/jpeg:https://seinfinity.pro/wp-content/uploads/2025/10/FLYER-CONFERENCIA-ZOOM-ALEXANDER-LOAIZA-17-10.jpg
END:VEVENT
BEGIN:VEVENT
DTSTART;TZID=America/Lima:20251015T200000
DTEND;TZID=America/Lima:20251015T210000
DTSTAMP:20260422T134938
CREATED:20251016T230345Z
LAST-MODIFIED:20251016T230346Z
UID:4444-1760558400-1760562000@seinfinity.pro
SUMMARY:PRESENTACIÓN DE NEGOCIOS
DESCRIPTION:🚨 INICIO: 08:00 P.M. (hora Perú) \n⏰ APERTURA: 07:50 P.M. \n🇵🇪 Expositores: MARITZA HUANCA – EMBAJADOR 250K \n  \n🎥 Enlace de videoconferencia vía plataforma ZOOM\, click aquí: 👇 \nhttps://us05web.zoom.us/j/86831566135?pwd=XLKaV2uLGWFNAyptYHBi2axM1OuExa.1
URL:https://seinfinity.pro/eventos/presentacion-de-negocios-91/
CATEGORIES:Presentación de Negocio
ATTACH;FMTTYPE=image/jpeg:https://seinfinity.pro/wp-content/uploads/2025/10/FLYER-CONFERENCIA-ZOOM-MARITZA-HUANCA-15-10.jpg
END:VEVENT
BEGIN:VEVENT
DTSTART;TZID=America/Lima:20251013T200000
DTEND;TZID=America/Lima:20251013T210000
DTSTAMP:20260422T134938
CREATED:20251010T172344Z
LAST-MODIFIED:20251010T172347Z
UID:4438-1760385600-1760389200@seinfinity.pro
SUMMARY:PRESENTACIÓN DE NEGOCIOS
DESCRIPTION:🚨 INICIO: 08:00 P.M. (hora Perú) \n⏰ APERTURA: 07:50 P.M. \n🇵🇪 Expositores: CARLOS FLORES – EMBAJADOR DIAMANTE \n  \n🎥 Enlace de videoconferencia vía plataforma ZOOM\, click aquí: 👇 \nhttps://us05web.zoom.us/j/86831566135?pwd=XLKaV2uLGWFNAyptYHBi2axM1OuExa.1
URL:https://seinfinity.pro/eventos/presentacion-de-negocios-90/
CATEGORIES:Presentación de Negocio
ATTACH;FMTTYPE=image/jpeg:https://seinfinity.pro/wp-content/uploads/2025/10/FLYER-CONFERENCIA-ZOOM-CARLOS-FLORES-13-10.jpg
END:VEVENT
BEGIN:VEVENT
DTSTART;TZID=America/Lima:20251012T200000
DTEND;TZID=America/Lima:20251012T210000
DTSTAMP:20260422T134938
CREATED:20251010T171803Z
LAST-MODIFIED:20251010T171806Z
UID:4435-1760299200-1760302800@seinfinity.pro
SUMMARY:TALLER
DESCRIPTION:🚨 INICIO: 08:00 P.M. (hora Perú) \n⏰ APERTURA: 07:45 P.M. \n🇵🇪 Expositor: EVILIO VEGA – EMBAJADOR 100K \n  \n🎥 Enlace de videoconferencia vía plataforma ZOOM\, click aquí: 👇 \n  \nhttps://us05web.zoom.us/j/86831566135?pwd=XLKaV2uLGWFNAyptYHBi2axM1OuExa.1
URL:https://seinfinity.pro/eventos/taller-28/
CATEGORIES:Presentación de Negocio
ATTACH;FMTTYPE=image/jpeg:https://seinfinity.pro/wp-content/uploads/2025/10/CONFERENCIA-TALLER-EVILIO-VEGA-12-10-25.jpg
END:VEVENT
BEGIN:VEVENT
DTSTART;TZID=America/Lima:20251010T200000
DTEND;TZID=America/Lima:20251010T210000
DTSTAMP:20260422T134938
CREATED:20251010T171447Z
LAST-MODIFIED:20251010T171449Z
UID:4432-1760126400-1760130000@seinfinity.pro
SUMMARY:PRESENTACIÓN DE NEGOCIOS
DESCRIPTION:🚨 INICIO: 08:00 P.M. (hora Perú) \n⏰ APERTURA: 07:50 P.M. \n🇵🇪 Expositores: ASTRITH CHOQUE – EMBAJADOR 250K \n  \n🎥 Enlace de videoconferencia vía plataforma ZOOM\, click aquí: 👇 \nhttps://us05web.zoom.us/j/86831566135?pwd=XLKaV2uLGWFNAyptYHBi2axM1OuExa.1
URL:https://seinfinity.pro/eventos/presentacion-de-negocios-89/
CATEGORIES:Presentación de Negocio
ATTACH;FMTTYPE=image/jpeg:https://seinfinity.pro/wp-content/uploads/2025/10/FLYER-CONFERENCIA-ZOOM-ASTRITH-CHOQUE-10-10.jpg
END:VEVENT
BEGIN:VEVENT
DTSTART;TZID=America/Lima:20251006T200000
DTEND;TZID=America/Lima:20251006T210000
DTSTAMP:20260422T134938
CREATED:20251006T230610Z
LAST-MODIFIED:20251006T230613Z
UID:4429-1759780800-1759784400@seinfinity.pro
SUMMARY:PRESENTACIÓN DE NEGOCIOS
DESCRIPTION:🚨 INICIO: 08:00 P.M. (hora Perú) \n⏰ APERTURA: 07:50 P.M. \n🇵🇪 Expositores: LUZMARINA TAPARA – EMBAJADOR 250K \nKATHERINE REYES  – EMBAJADOR 100K \n  \n🎥 Enlace de videoconferencia vía plataforma ZOOM\, click aquí: 👇 \nhttps://us05web.zoom.us/j/86831566135?pwd=XLKaV2uLGWFNAyptYHBi2axM1OuExa.1
URL:https://seinfinity.pro/eventos/presentacion-de-negocios-88/
CATEGORIES:Presentación de Negocio
ATTACH;FMTTYPE=image/jpeg:https://seinfinity.pro/wp-content/uploads/2025/10/FLYER-CONFERENCIA-ZOOM-LUZMARINA-TAPARA-KATHERINE-REYES-06-10.jpg
END:VEVENT
BEGIN:VEVENT
DTSTART;TZID=America/Lima:20251005T200000
DTEND;TZID=America/Lima:20251005T210000
DTSTAMP:20260422T134938
CREATED:20251003T235835Z
LAST-MODIFIED:20251003T235838Z
UID:4426-1759694400-1759698000@seinfinity.pro
SUMMARY:TALLER
DESCRIPTION:🚨 INICIO: 08:00 P.M. (hora Perú) \n⏰ APERTURA: 07:45 P.M. \n🇵🇪 Expositor: DICK LOAIZA – EMBAJADOR INFINITY \n  \n🎥 Enlace de videoconferencia vía plataforma ZOOM\, click aquí: 👇 \n  \nhttps://us05web.zoom.us/j/86831566135?pwd=XLKaV2uLGWFNAyptYHBi2axM1OuExa.1
URL:https://seinfinity.pro/eventos/taller-27/
CATEGORIES:Presentación de Negocio
ATTACH;FMTTYPE=image/jpeg:https://seinfinity.pro/wp-content/uploads/2025/10/CONFERENCIA-TALLER-DICK-LOAIZA-05-10-25.jpg
END:VEVENT
BEGIN:VEVENT
DTSTART;TZID=America/Lima:20251003T200000
DTEND;TZID=America/Lima:20251003T210000
DTSTAMP:20260422T134938
CREATED:20251003T235607Z
LAST-MODIFIED:20251003T235610Z
UID:4422-1759521600-1759525200@seinfinity.pro
SUMMARY:PRESENTACIÓN DE NEGOCIOS
DESCRIPTION:🚨 INICIO: 08:00 P.M. (hora Perú) \n⏰ APERTURA: 07:50 P.M. \n🇵🇪 Expositores: SONIA SERRANO – EMBAJADOR ÉLITE \nRENE QUISPE  – EMBAJADOR 250K \n  \n🎥 Enlace de videoconferencia vía plataforma ZOOM\, click aquí: 👇 \nhttps://us05web.zoom.us/j/86831566135?pwd=XLKaV2uLGWFNAyptYHBi2axM1OuExa.1
URL:https://seinfinity.pro/eventos/presentacion-de-negocios-87/
CATEGORIES:Presentación de Negocio
ATTACH;FMTTYPE=image/jpeg:https://seinfinity.pro/wp-content/uploads/2025/10/FLYER-CONFERENCIA-ZOOM-SONIA-SERRANO-RENE-QUISPE-03-10.jpg
END:VEVENT
BEGIN:VEVENT
DTSTART;TZID=America/Lima:20251001T200000
DTEND;TZID=America/Lima:20251001T210000
DTSTAMP:20260422T134938
CREATED:20251001T231905Z
LAST-MODIFIED:20251001T231908Z
UID:4419-1759348800-1759352400@seinfinity.pro
SUMMARY:PRESENTACIÓN DE NEGOCIOS
DESCRIPTION:🚨 INICIO: 08:00 P.M. (hora Perú) \n⏰ APERTURA: 07:50 P.M. \n🇵🇪 Expositores: GREET PALOMINO – EMBAJADOR 250K \nLUZMARINA TAPARA  – EMBAJADOR 250K \n  \n🎥 Enlace de videoconferencia vía plataforma ZOOM\, click aquí: 👇 \nhttps://us05web.zoom.us/j/86831566135?pwd=XLKaV2uLGWFNAyptYHBi2axM1OuExa.1
URL:https://seinfinity.pro/eventos/presentacion-de-negocios-86/
CATEGORIES:Presentación de Negocio
ATTACH;FMTTYPE=image/jpeg:https://seinfinity.pro/wp-content/uploads/2025/10/FLYER-CONFERENCIA-ZOOM-GREET-PALOMINO-LUZMARINA-TAPARA-01-10.jpg
END:VEVENT
BEGIN:VEVENT
DTSTART;TZID=America/Lima:20250929T200000
DTEND;TZID=America/Lima:20250929T210000
DTSTAMP:20260422T134938
CREATED:20250929T163926Z
LAST-MODIFIED:20250929T163929Z
UID:4415-1759176000-1759179600@seinfinity.pro
SUMMARY:PRESENTACIÓN DE NEGOCIOS
DESCRIPTION:🚨 INICIO: 08:00 P.M. (hora Perú) \n⏰ APERTURA: 07:50 P.M. \n🇵🇪 Expositores: ELIZA CUSI – EMBAJADOR DIAMANTE \nREYNA ASUNTA  – EMBAJADOR DIAMANTE \n  \n🎥 Enlace de videoconferencia vía plataforma ZOOM\, click aquí: 👇 \nhttps://us05web.zoom.us/j/86831566135?pwd=XLKaV2uLGWFNAyptYHBi2axM1OuExa.1
URL:https://seinfinity.pro/eventos/presentacion-de-negocios-85/
CATEGORIES:Presentación de Negocio
ATTACH;FMTTYPE=image/jpeg:https://seinfinity.pro/wp-content/uploads/2025/09/FLYER-CONFERENCIA-ZOOM-29-septiembre.jpg
END:VEVENT
BEGIN:VEVENT
DTSTART;TZID=America/Lima:20250928T200000
DTEND;TZID=America/Lima:20250928T210000
DTSTAMP:20260422T134938
CREATED:20250929T163549Z
LAST-MODIFIED:20250929T163552Z
UID:4412-1759089600-1759093200@seinfinity.pro
SUMMARY:TALLER
DESCRIPTION:🚨 INICIO: 08:00 P.M. (hora Perú) \n⏰ APERTURA: 07:45 P.M. \n🇵🇪 Expositor: FELICIA LIVANO – EMBAJADOR DIAMANTE \n  \n🎥 Enlace de videoconferencia vía plataforma ZOOM\, click aquí: 👇 \n  \nhttps://us05web.zoom.us/j/86831566135?pwd=XLKaV2uLGWFNAyptYHBi2axM1OuExa.1
URL:https://seinfinity.pro/eventos/taller-26/
CATEGORIES:Presentación de Negocio
ATTACH;FMTTYPE=image/jpeg:https://seinfinity.pro/wp-content/uploads/2025/09/CONFERENCIA-TALLER-FELICIA-LIVANO-28-09-25.jpg
END:VEVENT
BEGIN:VEVENT
DTSTART;TZID=America/Lima:20250926T200000
DTEND;TZID=America/Lima:20250926T210000
DTSTAMP:20260422T134938
CREATED:20250929T163315Z
LAST-MODIFIED:20250929T163318Z
UID:4408-1758916800-1758920400@seinfinity.pro
SUMMARY:PRESENTACIÓN DE NEGOCIOS
DESCRIPTION:🚨 INICIO: 08:00 P.M. (hora Perú) \n⏰ APERTURA: 07:50 P.M. \n🇵🇪 Expositores: SHERLY FERRO – EMBAJADOR ÉLITE \nNILA QUISPE  – EMBAJADOR 250K \n  \n🎥 Enlace de videoconferencia vía plataforma ZOOM\, click aquí: 👇 \nhttps://us05web.zoom.us/j/86831566135?pwd=XLKaV2uLGWFNAyptYHBi2axM1OuExa.1
URL:https://seinfinity.pro/eventos/presentacion-de-negocios-84/
CATEGORIES:Presentación de Negocio
ATTACH;FMTTYPE=image/jpeg:https://seinfinity.pro/wp-content/uploads/2025/09/FLYER-CONFERENCIA-ZOOM-26-09.jpg
END:VEVENT
BEGIN:VEVENT
DTSTART;TZID=America/Lima:20250924T200000
DTEND;TZID=America/Lima:20250924T210000
DTSTAMP:20260422T134938
CREATED:20250924T172414Z
LAST-MODIFIED:20250924T172414Z
UID:4404-1758744000-1758747600@seinfinity.pro
SUMMARY:PRESENTACIÓN DE NEGOCIOS
DESCRIPTION:🚨 INICIO: 08:00 P.M. (hora Perú) \n⏰ APERTURA: 07:50 P.M. \n🇵🇪 Expositores: LOIDITH HUACARPUMA– EMBAJADOR 250K \nFELICIDAD CASTILLO  – EMBAJADOR 100K \n  \n🎥 Enlace de videoconferencia vía plataforma ZOOM\, click aquí: 👇 \nhttps://us05web.zoom.us/j/86831566135?pwd=XLKaV2uLGWFNAyptYHBi2axM1OuExa.1
URL:https://seinfinity.pro/eventos/presentacion-de-negocios-83/
CATEGORIES:Presentación de Negocio
ATTACH;FMTTYPE=image/jpeg:https://seinfinity.pro/wp-content/uploads/2025/09/FLYER-CONFERENCIA-ZOOM-24-septiembre.jpg
END:VEVENT
BEGIN:VEVENT
DTSTART;TZID=America/Lima:20250922T200000
DTEND;TZID=America/Lima:20250922T210000
DTSTAMP:20260422T134938
CREATED:20250922T215148Z
LAST-MODIFIED:20250922T215148Z
UID:4400-1758571200-1758574800@seinfinity.pro
SUMMARY:PRESENTACIÓN DE NEGOCIOS
DESCRIPTION:🚨 INICIO: 08:00 P.M. (hora Perú) \n⏰ APERTURA: 07:50 P.M. \n🇵🇪 Expositores: MARINA ERAZO – EMBAJADOR ÉLITE \nELISEO CALSIN  – EMBAJADOR 100K \n  \n🎥 Enlace de videoconferencia vía plataforma ZOOM\, click aquí: 👇 \nhttps://us05web.zoom.us/j/86831566135?pwd=XLKaV2uLGWFNAyptYHBi2axM1OuExa.1
URL:https://seinfinity.pro/eventos/presentacion-de-negocios-82/
CATEGORIES:Presentación de Negocio
ATTACH;FMTTYPE=image/jpeg:https://seinfinity.pro/wp-content/uploads/2025/09/FLYER-CONFERENCIA-ZOOM-MARINA-ERAZO-ELISEO-CALSIN-22-09.jpg
END:VEVENT
END:VCALENDAR