BEGIN:VCALENDAR
VERSION:2.0
PRODID:-//SE INFINITY - ECPv6.15.20//NONSGML v1.0//EN
CALSCALE:GREGORIAN
METHOD:PUBLISH
X-WR-CALNAME:SE INFINITY
X-ORIGINAL-URL:https://seinfinity.pro
X-WR-CALDESC:Events for SE INFINITY
REFRESH-INTERVAL;VALUE=DURATION:PT1H
X-Robots-Tag:noindex
X-PUBLISHED-TTL:PT1H
BEGIN:VTIMEZONE
TZID:America/Lima
BEGIN:STANDARD
TZOFFSETFROM:-0500
TZOFFSETTO:-0500
TZNAME:-05
DTSTART:20240101T000000
END:STANDARD
END:VTIMEZONE
BEGIN:VEVENT
DTSTART;TZID=America/Lima:20250818T200000
DTEND;TZID=America/Lima:20250818T210000
DTSTAMP:20260422T191341
CREATED:20250820T212534Z
LAST-MODIFIED:20250820T212534Z
UID:4325-1755547200-1755550800@seinfinity.pro
SUMMARY:PRESENTACIÓN DE NEGOCIOS
DESCRIPTION:🚨 INICIO: 08:00 P.M. (hora Perú) \n⏰ APERTURA: 07:50 P.M. \n🇵🇪 Expositores: DORIS GONZALES – EMBAJADOR 250K \nFELICIA LIVANO – EMBAJADOR DIAMANTE \n  \n🎥 Enlace de videoconferencia vía plataforma ZOOM\, click aquí: 👇 \nhttps://us05web.zoom.us/j/86831566135?pwd=XLKaV2uLGWFNAyptYHBi2axM1OuExa.1
URL:https://seinfinity.pro/eventos/presentacion-de-negocios-69/
CATEGORIES:Presentación de Negocio
ATTACH;FMTTYPE=image/jpeg:https://seinfinity.pro/wp-content/uploads/2025/08/FLYER-CONFERENCIA-ZOOM-18-08.jpg
END:VEVENT
BEGIN:VEVENT
DTSTART;TZID=America/Lima:20250816T180000
DTEND;TZID=America/Lima:20250816T190000
DTSTAMP:20260422T191341
CREATED:20250722T163551Z
LAST-MODIFIED:20250722T163551Z
UID:4274-1755367200-1755370800@seinfinity.pro
SUMMARY:EVENTO CORPORATIVO
DESCRIPTION:🚀 Únete a este evento gratuito y sumérgete en el mundo del Blockchain\, una tecnología revolucionaria que está transformando industrias en todo el mundo. \n  \n⏰ Hora de registro: 05:30 PM \n  \n📍 Lugar: Hotel La Posada del Rey \n  \n📌 Dirección: Calle Andueza 289\, Urb. La Merced \n  \n🎤 Ponente: Hildmart Pareja y Percy Vizcarra \n  \n💡 No pierdas esta oportunidad única de aprender\, conectar y explorar nuevas posibilidades en la era digital.
URL:https://seinfinity.pro/eventos/evento-corporativo-8/
LOCATION:Hotel La Posada del Rey\, Calle Andueza 289\, Urb. La Merced \, Trujillo\, Peru
CATEGORIES:Presentación de Negocio
ATTACH;FMTTYPE=image/jpeg:https://seinfinity.pro/wp-content/uploads/2025/07/EVENTO-TRUJILLO-16-08.jpg
END:VEVENT
BEGIN:VEVENT
DTSTART;TZID=America/Lima:20250815T200000
DTEND;TZID=America/Lima:20250815T210000
DTSTAMP:20260422T191341
CREATED:20250815T165414Z
LAST-MODIFIED:20250815T165415Z
UID:4314-1755288000-1755291600@seinfinity.pro
SUMMARY:PRESENTACIÓN DE NEGOCIOS
DESCRIPTION:🚨 INICIO: 08:00 P.M. (hora Perú) \n⏰ APERTURA: 07:50 P.M. \n🇵🇪 Expositores: GERMAN QUIROGA  – EMBAJADOR 250K \nNOEMI CRUZ  – EMBAJADOR 250K \n  \n🎥 Enlace de videoconferencia vía plataforma ZOOM\, click aquí: 👇 \nhttps://us05web.zoom.us/j/86831566135?pwd=XLKaV2uLGWFNAyptYHBi2axM1OuExa.1
URL:https://seinfinity.pro/eventos/presentacion-de-negocios-66/
CATEGORIES:Presentación de Negocio
ATTACH;FMTTYPE=image/jpeg:https://seinfinity.pro/wp-content/uploads/2025/08/FLYER-CONFERENCIA-ZOOM-GERMAN-QUIROGA-NOEMI-CRUZ-15-08.jpg
END:VEVENT
BEGIN:VEVENT
DTSTART;TZID=America/Lima:20250813T200000
DTEND;TZID=America/Lima:20250813T210000
DTSTAMP:20260422T191341
CREATED:20250813T172521Z
LAST-MODIFIED:20250813T172522Z
UID:4308-1755115200-1755118800@seinfinity.pro
SUMMARY:PRESENTACIÓN DE NEGOCIOS
DESCRIPTION:🚨 INICIO: 08:00 P.M. (hora Perú) \n⏰ APERTURA: 07:50 P.M. \n🇵🇪 Expositores: PRISCILA DUEÑAS  – EMBAJADOR DIAMANTE \nEDGAR SANTOS  – EMBAJADOR 250K \n  \n🎥 Enlace de videoconferencia vía plataforma ZOOM\, click aquí: 👇 \nhttps://us05web.zoom.us/j/86831566135?pwd=XLKaV2uLGWFNAyptYHBi2axM1OuExa.1
URL:https://seinfinity.pro/eventos/presentacion-de-negocios-65/
CATEGORIES:Presentación de Negocio
ATTACH;FMTTYPE=image/jpeg:https://seinfinity.pro/wp-content/uploads/2025/08/FLYER-CONFERENCIA-ZOOM-PRISCILA-DUENAS-EDGAR-SANTOS-13-08.jpg
END:VEVENT
BEGIN:VEVENT
DTSTART;TZID=America/Lima:20250811T200000
DTEND;TZID=America/Lima:20250811T210000
DTSTAMP:20260422T191341
CREATED:20250811T195304Z
LAST-MODIFIED:20250811T195305Z
UID:4302-1754942400-1754946000@seinfinity.pro
SUMMARY:PRESENTACIÓN DE NEGOCIOS
DESCRIPTION:🚨 INICIO: 08:00 P.M. (hora Perú) \n⏰ APERTURA: 07:50 P.M. \n🇵🇪 Expositora: DULIA JARA  – EMBAJADOR 100K \nHUGO RUSSEL  – EMBAJADOR 100K \n  \n🎥 Enlace de videoconferencia vía plataforma ZOOM\, click aquí: 👇 \nhttps://us05web.zoom.us/j/86831566135?pwd=XLKaV2uLGWFNAyptYHBi2axM1OuExa.1
URL:https://seinfinity.pro/eventos/presentacion-de-negocios-64/
CATEGORIES:Presentación de Negocio
ATTACH;FMTTYPE=image/jpeg:https://seinfinity.pro/wp-content/uploads/2025/08/FLYER-CONFERENCIA-ZOOM-DULIA-JARA-HUGO-RUSSEL-11-08.jpg
END:VEVENT
BEGIN:VEVENT
DTSTART;TZID=America/Lima:20250810T200000
DTEND;TZID=America/Lima:20250810T210000
DTSTAMP:20260422T191341
CREATED:20250730T224216Z
LAST-MODIFIED:20250730T224216Z
UID:4297-1754856000-1754859600@seinfinity.pro
SUMMARY:TALLER
DESCRIPTION:🚨 INICIO: 08:00 P.M. (hora Perú) \n⏰ APERTURA: 07:45 P.M. \n🇵🇪 Expositor: CAMILA LÓPEZ – EMBAJADOR 100K \n  \n🎥 Enlace de videoconferencia vía plataforma ZOOM\, click aquí: 👇 \n  \nhttps://us05web.zoom.us/j/86831566135?pwd=XLKaV2uLGWFNAyptYHBi2axM1OuExa.1
URL:https://seinfinity.pro/eventos/taller-21/
CATEGORIES:Presentación de Negocio
ATTACH;FMTTYPE=image/jpeg:https://seinfinity.pro/wp-content/uploads/2025/07/CONFERENCIA-TALLER-CAMILA-LOPEZ-10-08-25.jpg
END:VEVENT
BEGIN:VEVENT
DTSTART;TZID=America/Lima:20250809T180000
DTEND;TZID=America/Lima:20250809T190000
DTSTAMP:20260422T191341
CREATED:20250722T163012Z
LAST-MODIFIED:20250722T163013Z
UID:4270-1754762400-1754766000@seinfinity.pro
SUMMARY:EVENTO CORPORATIVO
DESCRIPTION:🚀 Únete a este evento gratuito y sumérgete en el mundo del Blockchain\, una tecnología revolucionaria que está transformando industrias en todo el mundo. \n  \n⏰ Hora de registro: 05:30 PM \n  \n📍 Lugar: Colegio médico Cusco \n  \n📌 Dirección: Av. La Cultura (AL COSTADO DEL HOSPITAL REGIONAL – CUSCO) \n  \n🎤 Ponente: Hildmart Pareja y Percy Vizcarra \n  \n💡 No pierdas esta oportunidad única de aprender\, conectar y explorar nuevas posibilidades en la era digital.
URL:https://seinfinity.pro/eventos/evento-corporativo-7/
LOCATION:Colegio médico Cusco\, Av. La Cultura\, Cusco\, Peru
CATEGORIES:Presentación de Negocio
ATTACH;FMTTYPE=image/jpeg:https://seinfinity.pro/wp-content/uploads/2025/07/EVENTO-CUSCO-09-08.jpg
END:VEVENT
BEGIN:VEVENT
DTSTART;TZID=America/Lima:20250808T200000
DTEND;TZID=America/Lima:20250808T210000
DTSTAMP:20260422T191341
CREATED:20250730T220101Z
LAST-MODIFIED:20250730T220102Z
UID:4294-1754683200-1754686800@seinfinity.pro
SUMMARY:PRESENTACIÓN DE NEGOCIOS
DESCRIPTION:🚨 INICIO: 08:00 P.M. (hora Perú) \n⏰ APERTURA: 07:50 P.M. \n🇵🇪 Expositora: ASTRITH CHOQUE  – EMBAJADOR 250K \n  \n🎥 Enlace de videoconferencia vía plataforma ZOOM\, click aquí: 👇 \nhttps://us05web.zoom.us/j/86831566135?pwd=XLKaV2uLGWFNAyptYHBi2axM1OuExa.1
URL:https://seinfinity.pro/eventos/presentacion-de-negocios-63/
CATEGORIES:Presentación de Negocio
ATTACH;FMTTYPE=image/jpeg:https://seinfinity.pro/wp-content/uploads/2025/07/FLYER-CONFERENCIA-ZOOM-ASTRITH-CHOQQUE-04-08.jpg
END:VEVENT
BEGIN:VEVENT
DTSTART;TZID=America/Lima:20250806T200000
DTEND;TZID=America/Lima:20250806T210000
DTSTAMP:20260422T191341
CREATED:20250730T215858Z
LAST-MODIFIED:20250730T215858Z
UID:4291-1754510400-1754514000@seinfinity.pro
SUMMARY:PRESENTACIÓN DE NEGOCIOS
DESCRIPTION:🚨 INICIO: 08:00 P.M. (hora Perú) \n⏰ APERTURA: 07:50 P.M. \n🇵🇪 Expositor: FAUSTINO TORRES  – EMBAJADOR 250K \n  \n🎥 Enlace de videoconferencia vía plataforma ZOOM\, click aquí: 👇 \nhttps://us05web.zoom.us/j/86831566135?pwd=XLKaV2uLGWFNAyptYHBi2axM1OuExa.1
URL:https://seinfinity.pro/eventos/presentacion-de-negocios-62/
CATEGORIES:Presentación de Negocio
ATTACH;FMTTYPE=image/jpeg:https://seinfinity.pro/wp-content/uploads/2025/07/FLYER-CONFERENCIA-ZOOM-FAUSTINO-TORRES-06-08.jpg
END:VEVENT
BEGIN:VEVENT
DTSTART;TZID=America/Lima:20250804T200000
DTEND;TZID=America/Lima:20250804T210000
DTSTAMP:20260422T191341
CREATED:20250730T215430Z
LAST-MODIFIED:20250730T215440Z
UID:4285-1754337600-1754341200@seinfinity.pro
SUMMARY:PRESENTACIÓN DE NEGOCIOS
DESCRIPTION:🚨 INICIO: 08:00 P.M. (hora Perú) \n⏰ APERTURA: 07:50 P.M. \n🇵🇪 Expositora: ROSA BRAVO  – EMBAJADOR DIAMANTE \n  \n🎥 Enlace de videoconferencia vía plataforma ZOOM\, click aquí: 👇 \nhttps://us05web.zoom.us/j/86831566135?pwd=XLKaV2uLGWFNAyptYHBi2axM1OuExa.1
URL:https://seinfinity.pro/eventos/presentacion-de-negocios-61/
CATEGORIES:Presentación de Negocio
ATTACH;FMTTYPE=image/jpeg:https://seinfinity.pro/wp-content/uploads/2025/07/FLYER-CONFERENCIA-ZOOM-ROSA-BRAVO-04-08.jpg
END:VEVENT
BEGIN:VEVENT
DTSTART;TZID=America/Lima:20250801T200000
DTEND;TZID=America/Lima:20250801T210000
DTSTAMP:20260422T191341
CREATED:20250730T214648Z
LAST-MODIFIED:20250730T214649Z
UID:4282-1754078400-1754082000@seinfinity.pro
SUMMARY:PRESENTACIÓN DE NEGOCIOS
DESCRIPTION:🚨 INICIO: 08:00 P.M. (hora Perú) \n⏰ APERTURA: 07:50 P.M. \n🇵🇪 Expositor: PERCY VIZCARRA  – DIRECTOR DE EXPANSIÓN \n  \n🎥 Enlace de videoconferencia vía plataforma ZOOM\, click aquí: 👇 \nhttps://us05web.zoom.us/j/86831566135?pwd=XLKaV2uLGWFNAyptYHBi2axM1OuExa.1
URL:https://seinfinity.pro/eventos/presentacion-de-negocios-60/
CATEGORIES:Presentación de Negocio
ATTACH;FMTTYPE=image/jpeg:https://seinfinity.pro/wp-content/uploads/2025/07/FLYER-CONFERENCIA-ZOOM-PERCY-VIZCARRA-01-08.jpg
END:VEVENT
BEGIN:VEVENT
DTSTART;TZID=America/Lima:20250730T200000
DTEND;TZID=America/Lima:20250730T210000
DTSTAMP:20260422T191341
CREATED:20250730T213856Z
LAST-MODIFIED:20250730T213857Z
UID:4279-1753905600-1753909200@seinfinity.pro
SUMMARY:PRESENTACIÓN DE NEGOCIOS
DESCRIPTION:🚨 INICIO: 08:00 P.M. (hora Perú) \n⏰ APERTURA: 07:50 P.M. \n🇵🇪 Expositor: MITWAR CORA  – EMBAJADOR 100K \n  \n🎥 Enlace de videoconferencia vía plataforma ZOOM\, click aquí: 👇 \nhttps://us05web.zoom.us/j/86831566135?pwd=XLKaV2uLGWFNAyptYHBi2axM1OuExa.1
URL:https://seinfinity.pro/eventos/presentacion-de-negocios-59/
CATEGORIES:Presentación de Negocio
ATTACH;FMTTYPE=image/jpeg:https://seinfinity.pro/wp-content/uploads/2025/07/FLYER-CONFERENCIA-ZOOM-MITWAR-CORA-30-07.jpg
END:VEVENT
BEGIN:VEVENT
DTSTART;TZID=America/Lima:20250727T200000
DTEND;TZID=America/Lima:20250727T210000
DTSTAMP:20260422T191341
CREATED:20250721T215408Z
LAST-MODIFIED:20250721T215408Z
UID:4267-1753646400-1753650000@seinfinity.pro
SUMMARY:TALLER
DESCRIPTION:🚨 INICIO: 08:00 P.M. (hora Perú) \n⏰ APERTURA: 07:45 P.M. \n🇵🇪 Expositor: EVILIO VEGA – EMBAJADOR 100K \n  \n🎥 Enlace de videoconferencia vía plataforma ZOOM\, click aquí: 👇 \n  \nhttps://us05web.zoom.us/j/86831566135?pwd=XLKaV2uLGWFNAyptYHBi2axM1OuExa.1
URL:https://seinfinity.pro/eventos/taller-20/
CATEGORIES:Presentación de Negocio
ATTACH;FMTTYPE=image/jpeg:https://seinfinity.pro/wp-content/uploads/2025/07/CONFERENCIA-TALLER-EVILIO-VEGA-27-07-25.jpg
END:VEVENT
BEGIN:VEVENT
DTSTART;TZID=America/Lima:20250725T200000
DTEND;TZID=America/Lima:20250725T210000
DTSTAMP:20260422T191341
CREATED:20250721T215106Z
LAST-MODIFIED:20250721T215106Z
UID:4264-1753473600-1753477200@seinfinity.pro
SUMMARY:PRESENTACIÓN DE NEGOCIOS
DESCRIPTION:🚨 INICIO: 08:00 P.M. (hora Perú) \n⏰ APERTURA: 07:50 P.M. \n🇵🇪 Expositor: ISAIAS MAQQE  – EMBAJADOR 100K \n  \n🎥 Enlace de videoconferencia vía plataforma ZOOM\, click aquí: 👇 \nhttps://us05web.zoom.us/j/86831566135?pwd=XLKaV2uLGWFNAyptYHBi2axM1OuExa.1
URL:https://seinfinity.pro/eventos/presentacion-de-negocios-58/
CATEGORIES:Presentación de Negocio
ATTACH;FMTTYPE=image/jpeg:https://seinfinity.pro/wp-content/uploads/2025/07/FLYER-CONFERENCIA-ZOOM-ISAIAS-MAQQE-25-07.jpg
END:VEVENT
BEGIN:VEVENT
DTSTART;TZID=America/Lima:20250723T200000
DTEND;TZID=America/Lima:20250723T210000
DTSTAMP:20260422T191341
CREATED:20250721T213054Z
LAST-MODIFIED:20250721T213055Z
UID:4261-1753300800-1753304400@seinfinity.pro
SUMMARY:PRESENTACIÓN DE NEGOCIOS
DESCRIPTION:🚨 INICIO: 08:00 P.M. (hora Perú) \n⏰ APERTURA: 07:50 P.M. \n🇵🇪 Expositor: JORGE CCOSIO  – EMBAJADOR 250K \n  \n🎥 Enlace de videoconferencia vía plataforma ZOOM\, click aquí: 👇 \nhttps://us05web.zoom.us/j/86831566135?pwd=XLKaV2uLGWFNAyptYHBi2axM1OuExa.1
URL:https://seinfinity.pro/eventos/presentacion-de-negocios-57/
CATEGORIES:Presentación de Negocio
ATTACH;FMTTYPE=image/jpeg:https://seinfinity.pro/wp-content/uploads/2025/07/FLYER-CONFERENCIA-ZOOM-JORGE-CCOSIO-23-07.jpg
END:VEVENT
BEGIN:VEVENT
DTSTART;TZID=America/Lima:20250721T200000
DTEND;TZID=America/Lima:20250721T210000
DTSTAMP:20260422T191341
CREATED:20250721T212828Z
LAST-MODIFIED:20250721T212828Z
UID:4258-1753128000-1753131600@seinfinity.pro
SUMMARY:PRESENTACIÓN DE NEGOCIOS
DESCRIPTION:🚨 INICIO: 08:00 P.M. (hora Perú) \n⏰ APERTURA: 07:50 P.M. \n🇵🇪 Expositor: WALTER ARVIRI  – EMBAJADOR DIAMANTE \n  \n🎥 Enlace de videoconferencia vía plataforma ZOOM\, click aquí: 👇 \nhttps://us05web.zoom.us/j/86831566135?pwd=XLKaV2uLGWFNAyptYHBi2axM1OuExa.1
URL:https://seinfinity.pro/eventos/presentacion-de-negocios-56/
CATEGORIES:Presentación de Negocio
ATTACH;FMTTYPE=image/jpeg:https://seinfinity.pro/wp-content/uploads/2025/07/FLYER-CONFERENCIA-ZOOM-WALTER-ARVIRI-21-07.jpg
END:VEVENT
BEGIN:VEVENT
DTSTART;TZID=America/Lima:20250718T200000
DTEND;TZID=America/Lima:20250718T210000
DTSTAMP:20260422T191341
CREATED:20250718T220751Z
LAST-MODIFIED:20250718T220752Z
UID:4254-1752868800-1752872400@seinfinity.pro
SUMMARY:PRESENTACIÓN DE NEGOCIOS
DESCRIPTION:🚨 INICIO: 08:00 P.M. (hora Perú) \n⏰ APERTURA: 07:50 P.M. \n🇵🇪 Expositor: AMÉRICO HUAMANI – EMBAJADOR 250K \n  \n🎥 Enlace de videoconferencia vía plataforma ZOOM\, click aquí: 👇 \nhttps://us05web.zoom.us/j/86831566135?pwd=XLKaV2uLGWFNAyptYHBi2axM1OuExa.1
URL:https://seinfinity.pro/eventos/presentacion-de-negocios-55/
CATEGORIES:Presentación de Negocio
ATTACH;FMTTYPE=image/png:https://seinfinity.pro/wp-content/uploads/2025/07/CONFERENCIA-ZOOM-AMERICO-HUAMANI-18-07-25.png
END:VEVENT
BEGIN:VEVENT
DTSTART;TZID=America/Lima:20250716T200000
DTEND;TZID=America/Lima:20250716T210000
DTSTAMP:20260422T191341
CREATED:20250717T153154Z
LAST-MODIFIED:20250717T153154Z
UID:4250-1752696000-1752699600@seinfinity.pro
SUMMARY:PRESENTACIÓN DE NEGOCIOS
DESCRIPTION:🚨 INICIO: 08:00 P.M. (hora Perú) \n⏰ APERTURA: 07:50 P.M. \n🇵🇪 Expositora: MARITZA HUANCA – EMBAJADOR 250K \n  \n🎥 Enlace de videoconferencia vía plataforma ZOOM\, click aquí: 👇 \nhttps://us05web.zoom.us/j/86831566135?pwd=XLKaV2uLGWFNAyptYHBi2axM1OuExa.1
URL:https://seinfinity.pro/eventos/presentacion-de-negocios-54/
CATEGORIES:Presentación de Negocio
ATTACH;FMTTYPE=image/jpeg:https://seinfinity.pro/wp-content/uploads/2025/07/WhatsApp-Image-2025-07-16-at-19.54.25.jpeg
END:VEVENT
BEGIN:VEVENT
DTSTART;TZID=America/Lima:20250714T200000
DTEND;TZID=America/Lima:20250714T210000
DTSTAMP:20260422T191341
CREATED:20250717T150410Z
LAST-MODIFIED:20250717T151703Z
UID:4244-1752523200-1752526800@seinfinity.pro
SUMMARY:PRESENTACIÓN DE NEGOCIOS
DESCRIPTION:🚨 INICIO: 08:00 P.M. (hora Perú) \n⏰ APERTURA: 07:50 P.M. \n🇵🇪 Expositor: ALEXANDER LOAIZA– EMBAJADOR 250K \n  \n🎥 Enlace de videoconferencia vía plataforma ZOOM\, click aquí: 👇 \nhttps://us05web.zoom.us/j/86831566135?pwd=XLKaV2uLGWFNAyptYHBi2axM1OuExa.1
URL:https://seinfinity.pro/eventos/presentacion-de-negocios-53/
CATEGORIES:Presentación de Negocio
ATTACH;FMTTYPE=image/jpeg:https://seinfinity.pro/wp-content/uploads/2025/07/WhatsApp-Image-2025-07-14-at-11.03.01-AM.jpeg
END:VEVENT
BEGIN:VEVENT
DTSTART;TZID=America/Lima:20250713T200000
DTEND;TZID=America/Lima:20250713T210000
DTSTAMP:20260422T191341
CREATED:20250702T220505Z
LAST-MODIFIED:20250702T220505Z
UID:4236-1752436800-1752440400@seinfinity.pro
SUMMARY:TALLER
DESCRIPTION:🚨 INICIO: 08:00 P.M. (hora Perú) \n⏰ APERTURA: 07:45 P.M. \n🇵🇪 Expositor: RICARDO CERNA – EMBAJADOR DIAMANTE \n  \n🎥 Enlace de videoconferencia vía plataforma ZOOM\, click aquí: 👇 \n  \nhttps://us05web.zoom.us/j/86831566135?pwd=XLKaV2uLGWFNAyptYHBi2axM1OuExa.1
URL:https://seinfinity.pro/eventos/taller-19/
CATEGORIES:Presentación de Negocio
ATTACH;FMTTYPE=image/jpeg:https://seinfinity.pro/wp-content/uploads/2025/07/CONFERENCIA-TALLER-RICARDO-CERNA-13-07-25.jpg
END:VEVENT
BEGIN:VEVENT
DTSTART;TZID=America/Lima:20250712T140000
DTEND;TZID=America/Lima:20250712T150000
DTSTAMP:20260422T191341
CREATED:20250702T223228Z
LAST-MODIFIED:20250702T223433Z
UID:4239-1752328800-1752332400@seinfinity.pro
SUMMARY:EVENTO CORPORATIVO
DESCRIPTION:🚀 Únete a este evento gratuito y sumérgete en el mundo del Blockchain\, una tecnología revolucionaria que está transformando industrias en todo el mundo. \n  \n⏰ Hora de registro: 01:30 PM \n  \n📍 Lugar: Edificio Empresarial El Almirante \n  \n📌 Dirección: Av. Petit Thouars 1775 – OFICINA 1203 PISO 12. \n  \n🎤 Ponente: Hildmart Pareja y Percy Vizcarra \n  \n💡 No pierdas esta oportunidad única de aprender\, conectar y explorar nuevas posibilidades en la era digital.
URL:https://seinfinity.pro/eventos/evento-corporativo-6/
LOCATION:AV. PETIT THOUARS 1775\, AV. Petit Thouars 1775\, Lima\, Peru
CATEGORIES:Presentación de Negocio
ATTACH;FMTTYPE=image/jpeg:https://seinfinity.pro/wp-content/uploads/2025/07/EVENTO-LIMA-12-07.jpg
END:VEVENT
BEGIN:VEVENT
DTSTART;TZID=America/Lima:20250711T200000
DTEND;TZID=America/Lima:20250711T210000
DTSTAMP:20260422T191341
CREATED:20250702T215346Z
LAST-MODIFIED:20250702T215346Z
UID:4233-1752264000-1752267600@seinfinity.pro
SUMMARY:PRESENTACIÓN DE NEGOCIOS
DESCRIPTION:🚨 INICIO: 08:00 P.M. (hora Perú) \n⏰ APERTURA: 07:50 P.M. \n🇵🇪 Expositora: SUSAN MARTÍNEZ – EMBAJADOR 100K \n  \n🎥 Enlace de videoconferencia vía plataforma ZOOM\, click aquí: 👇 \nhttps://us05web.zoom.us/j/86831566135?pwd=XLKaV2uLGWFNAyptYHBi2axM1OuExa.1
URL:https://seinfinity.pro/eventos/presentacion-de-negocios-52/
CATEGORIES:Presentación de Negocio
ATTACH;FMTTYPE=image/jpeg:https://seinfinity.pro/wp-content/uploads/2025/07/FLYER-CONFERENCIA-ZOOM-SUSAN-MARTINEZ-11-07.jpg
END:VEVENT
BEGIN:VEVENT
DTSTART;TZID=America/Lima:20250709T200000
DTEND;TZID=America/Lima:20250709T210000
DTSTAMP:20260422T191341
CREATED:20250702T204006Z
LAST-MODIFIED:20250702T204006Z
UID:4230-1752091200-1752094800@seinfinity.pro
SUMMARY:PRESENTACIÓN DE NEGOCIOS
DESCRIPTION:🚨 INICIO: 08:00 P.M. (hora Perú) \n⏰ APERTURA: 07:50 P.M. \n🇵🇪 Expositora: KAREN DÍAZ – EMBAJADOR 100K \n  \n🎥 Enlace de videoconferencia vía plataforma ZOOM\, click aquí: 👇 \nhttps://us05web.zoom.us/j/86831566135?pwd=XLKaV2uLGWFNAyptYHBi2axM1OuExa.1
URL:https://seinfinity.pro/eventos/presentacion-de-negocios-51/
CATEGORIES:Presentación de Negocio
ATTACH;FMTTYPE=image/jpeg:https://seinfinity.pro/wp-content/uploads/2025/07/FLYER-CONFERENCIA-ZOOM-KAREN-DIAZ-09-07.jpg
END:VEVENT
BEGIN:VEVENT
DTSTART;TZID=America/Lima:20250707T200000
DTEND;TZID=America/Lima:20250707T210000
DTSTAMP:20260422T191341
CREATED:20250702T203736Z
LAST-MODIFIED:20250702T203736Z
UID:4227-1751918400-1751922000@seinfinity.pro
SUMMARY:PRESENTACIÓN DE NEGOCIOS
DESCRIPTION:🚨 INICIO: 08:00 P.M. (hora Perú) \n⏰ APERTURA: 07:50 P.M. \n🇵🇪 Expositora: JASMIN MAQQE – EMBAJADOR DIAMANTE \n  \n🎥 Enlace de videoconferencia vía plataforma ZOOM\, click aquí: 👇 \nhttps://us05web.zoom.us/j/86831566135?pwd=XLKaV2uLGWFNAyptYHBi2axM1OuExa.1
URL:https://seinfinity.pro/eventos/presentacion-de-negocios-50/
CATEGORIES:Presentación de Negocio
ATTACH;FMTTYPE=image/jpeg:https://seinfinity.pro/wp-content/uploads/2025/07/FLYER-CONFERENCIA-ZOOM-JAZMIN-MAQQE-07-07.jpg
END:VEVENT
BEGIN:VEVENT
DTSTART;TZID=America/Lima:20250706T200000
DTEND;TZID=America/Lima:20250706T210000
DTSTAMP:20260422T191341
CREATED:20250702T173940Z
LAST-MODIFIED:20250702T173941Z
UID:4221-1751832000-1751835600@seinfinity.pro
SUMMARY:TALLER
DESCRIPTION:🚨 INICIO: 08:00 P.M. (hora Perú) \n⏰ APERTURA: 07:45 P.M. \n🇵🇪 Expositora: MONICA LOAIZA – EMBAJADOR ÉLITE \n  \n🎥 Enlace de videoconferencia vía plataforma ZOOM\, click aquí: 👇 \n  \nhttps://us05web.zoom.us/j/86831566135?pwd=XLKaV2uLGWFNAyptYHBi2axM1OuExa.1
URL:https://seinfinity.pro/eventos/taller-18/
CATEGORIES:Presentación de Negocio
ATTACH;FMTTYPE=image/jpeg:https://seinfinity.pro/wp-content/uploads/2025/07/CONFERENCIA-TALLER-MONICA-LOAIZA-06-07-25.jpg
END:VEVENT
BEGIN:VEVENT
DTSTART;TZID=America/Lima:20250704T200000
DTEND;TZID=America/Lima:20250704T210000
DTSTAMP:20260422T191341
CREATED:20250702T173316Z
LAST-MODIFIED:20250702T173316Z
UID:4215-1751659200-1751662800@seinfinity.pro
SUMMARY:PRESENTACIÓN DE NEGOCIOS
DESCRIPTION:🚨 INICIO: 08:00 P.M. (hora Perú) \n⏰ APERTURA: 07:50 P.M. \n🇵🇪 Expositor: CARLOS FLORES – EMBAJADOR DIAMANTE \n  \n🎥 Enlace de videoconferencia vía plataforma ZOOM\, click aquí: 👇 \nhttps://us05web.zoom.us/j/86831566135?pwd=XLKaV2uLGWFNAyptYHBi2axM1OuExa.1
URL:https://seinfinity.pro/eventos/presentacion-de-negocios-49/
CATEGORIES:Presentación de Negocio
ATTACH;FMTTYPE=image/jpeg:https://seinfinity.pro/wp-content/uploads/2025/07/FLYER-CONFERENCIA-ZOOM-CARLOS-FLORES-04-07-1.jpg
END:VEVENT
BEGIN:VEVENT
DTSTART;TZID=America/Lima:20250702T200000
DTEND;TZID=America/Lima:20250702T210000
DTSTAMP:20260422T191341
CREATED:20250702T165304Z
LAST-MODIFIED:20250702T165304Z
UID:4212-1751486400-1751490000@seinfinity.pro
SUMMARY:PRESENTACIÓN DE NEGOCIOS
DESCRIPTION:🚨 INICIO: 08:00 P.M. (hora Perú) \n⏰ APERTURA: 07:50 P.M. \n🇵🇪 Expositor: HENRY MORA – EMBAJADOR 250K \n  \n🎥 Enlace de videoconferencia vía plataforma ZOOM\, click aquí: 👇 \nhttps://us05web.zoom.us/j/86831566135?pwd=XLKaV2uLGWFNAyptYHBi2axM1OuExa.1
URL:https://seinfinity.pro/eventos/presentacion-de-negocios-48/
CATEGORIES:Presentación de Negocio
ATTACH;FMTTYPE=image/jpeg:https://seinfinity.pro/wp-content/uploads/2025/07/FLYER-CONFERENCIA-ZOOM-HENRY-MORA-02-07.jpg
END:VEVENT
BEGIN:VEVENT
DTSTART;TZID=America/Lima:20250630T200000
DTEND;TZID=America/Lima:20250630T210000
DTSTAMP:20260422T191341
CREATED:20250630T144028Z
LAST-MODIFIED:20250630T144029Z
UID:4209-1751313600-1751317200@seinfinity.pro
SUMMARY:PRESENTACIÓN DE NEGOCIOS
DESCRIPTION:🚨 INICIO: 08:00 P.M. (hora Perú) \n⏰ APERTURA: 07:50 P.M. \n🇵🇪 Expositor: MARÍA REYES – EMBAJADOR 100K \n  \n🎥 Enlace de videoconferencia vía plataforma ZOOM\, click aquí: 👇 \nhttps://us05web.zoom.us/j/86831566135?pwd=XLKaV2uLGWFNAyptYHBi2axM1OuExa.1
URL:https://seinfinity.pro/eventos/presentacion-de-negocios-47/
CATEGORIES:Presentación de Negocio
ATTACH;FMTTYPE=image/jpeg:https://seinfinity.pro/wp-content/uploads/2025/06/FLYER-CONFERENCIA-ZOOM-MARIA-ANTONIETA-REYES-30-06-1.jpg
END:VEVENT
BEGIN:VEVENT
DTSTART;TZID=America/Lima:20250629T200000
DTEND;TZID=America/Lima:20250629T210000
DTSTAMP:20260422T191341
CREATED:20250630T142748Z
LAST-MODIFIED:20250702T174047Z
UID:4206-1751227200-1751230800@seinfinity.pro
SUMMARY:TALLER
DESCRIPTION:🚨 INICIO: 08:00 P.M. (hora Perú) \n⏰ APERTURA: 07:45 P.M. \n🇵🇪 Expositor: LEANDRO LOAIZA – EMBAJADOR ÉLITE \n  \n🎥 Enlace de videoconferencia vía plataforma ZOOM\, click aquí: 👇 \n  \nhttps://us05web.zoom.us/j/86831566135?pwd=XLKaV2uLGWFNAyptYHBi2axM1OuExa.1
URL:https://seinfinity.pro/eventos/taller-17/
CATEGORIES:Presentación de Negocio
ATTACH;FMTTYPE=image/jpeg:https://seinfinity.pro/wp-content/uploads/2025/06/CONFERENCIA-TALLER-LEANDRO-LOAIZA-29-06-25-1.jpg
END:VEVENT
BEGIN:VEVENT
DTSTART;TZID=America/Lima:20250627T200000
DTEND;TZID=America/Lima:20250627T210000
DTSTAMP:20260422T191341
CREATED:20250630T142218Z
LAST-MODIFIED:20250630T142219Z
UID:4202-1751054400-1751058000@seinfinity.pro
SUMMARY:PRESENTACIÓN DE NEGOCIOS
DESCRIPTION:🚨 INICIO: 08:00 P.M. (hora Perú) \n⏰ APERTURA: 07:50 P.M. \n🇵🇪 Expositores: GLADIS HUAMANRAYME – EMBAJADOR 500K\nDINA MENDOZA – EMBAJADORA 100K \n  \n🎥 Enlace de videoconferencia vía plataforma ZOOM\, click aquí: 👇 \nhttps://us05web.zoom.us/j/86831566135?pwd=XLKaV2uLGWFNAyptYHBi2axM1OuExa.1
URL:https://seinfinity.pro/eventos/presentacion-de-negocios-46/
CATEGORIES:Presentación de Negocio
ATTACH;FMTTYPE=image/jpeg:https://seinfinity.pro/wp-content/uploads/2025/06/FLYER-CONFERENCIA-ZOOM-GLADIS-HUAMANRAYME-GUALBERTINA-MENDOZA-27-06-1.jpg
END:VEVENT
END:VCALENDAR